BEGIN:VCALENDAR
VERSION:2.0
PRODID:-//Family Support Institute - ECPv6.15.12.2//NONSGML v1.0//EN
CALSCALE:GREGORIAN
METHOD:PUBLISH
X-WR-CALNAME:Family Support Institute
X-ORIGINAL-URL:https://familysupportbc.com
X-WR-CALDESC:Events for Family Support Institute
REFRESH-INTERVAL;VALUE=DURATION:PT1H
X-Robots-Tag:noindex
X-PUBLISHED-TTL:PT1H
BEGIN:VTIMEZONE
TZID:America/Vancouver
BEGIN:DAYLIGHT
TZOFFSETFROM:-0800
TZOFFSETTO:-0700
TZNAME:PDT
DTSTART:20230312T100000
END:DAYLIGHT
BEGIN:STANDARD
TZOFFSETFROM:-0700
TZOFFSETTO:-0800
TZNAME:PST
DTSTART:20231105T090000
END:STANDARD
BEGIN:DAYLIGHT
TZOFFSETFROM:-0800
TZOFFSETTO:-0700
TZNAME:PDT
DTSTART:20240310T100000
END:DAYLIGHT
BEGIN:STANDARD
TZOFFSETFROM:-0700
TZOFFSETTO:-0800
TZNAME:PST
DTSTART:20241103T090000
END:STANDARD
BEGIN:DAYLIGHT
TZOFFSETFROM:-0800
TZOFFSETTO:-0700
TZNAME:PDT
DTSTART:20250309T100000
END:DAYLIGHT
BEGIN:STANDARD
TZOFFSETFROM:-0700
TZOFFSETTO:-0800
TZNAME:PST
DTSTART:20251102T090000
END:STANDARD
END:VTIMEZONE
BEGIN:VEVENT
DTSTART;TZID=America/Vancouver:20241023T103000
DTEND;TZID=America/Vancouver:20241023T193000
DTSTAMP:20260420T023019
CREATED:20241008T170941Z
LAST-MODIFIED:20241008T170941Z
UID:41840-1729679400-1729711800@familysupportbc.com
SUMMARY:20th Annual INCLUSION Art Show & Sale
DESCRIPTION:Join us for the 20th Annual INCLUSION Art Show & Sale! \n  \nRESERVE YOUR SPOT\n  \nDate: Wednesday\, October 23\nTime: 10:30 AM – 7:30 PM\nLocation: Roundhouse Community Arts & Recreation Centre \nHeld during Community Inclusion Month in BC\, this free event is a vibrant celebration of creativity and collaboration in the community. Join us to experience the incredible work of over 200 artists with diverse abilities\, disabled individuals\, and those identifying as having a disability. \nAdmission is FREE! Donations at the door are appreciated and help support the show. \nAccessibility: The venue is fully accessible\, with a safe loading zone for HandyDART and personal vehicles. ASL interpretation will be provided. \nPayment Options: Most vendors accept both cash and electronic payments\, though some may only accept cash. An ATM is available near the venue. \nFor more information\, please visit: www.inclusionartshow.com \nPlease note that as this is a public event\, photos and videos may be taken throughout the day. By attending\, you acknowledge that you may appear in event coverage shared on our social media or promotional materials.
URL:https://familysupportbc.com/event/20th-annual-inclusion-art-show-sale/
LOCATION:The Roundhouse Community Arts & Rec Centre\, 181 Roundhouse Mews\, Vancouver\, British Columbia\, Canada
CATEGORIES:Calendar for Connection,External Event
ATTACH;FMTTYPE=image/jpeg:https://familysupportbc.com/wp-content/uploads/2024/10/artshow.jpeg
END:VEVENT
END:VCALENDAR