BEGIN:VCALENDAR
VERSION:2.0
PRODID:-//Family Support Institute - ECPv6.15.12.2//NONSGML v1.0//EN
CALSCALE:GREGORIAN
METHOD:PUBLISH
X-WR-CALNAME:Family Support Institute
X-ORIGINAL-URL:https://familysupportbc.com
X-WR-CALDESC:Events for Family Support Institute
REFRESH-INTERVAL;VALUE=DURATION:PT1H
X-Robots-Tag:noindex
X-PUBLISHED-TTL:PT1H
BEGIN:VTIMEZONE
TZID:America/Vancouver
BEGIN:DAYLIGHT
TZOFFSETFROM:-0800
TZOFFSETTO:-0700
TZNAME:PDT
DTSTART:20210314T100000
END:DAYLIGHT
BEGIN:STANDARD
TZOFFSETFROM:-0700
TZOFFSETTO:-0800
TZNAME:PST
DTSTART:20211107T090000
END:STANDARD
BEGIN:DAYLIGHT
TZOFFSETFROM:-0800
TZOFFSETTO:-0700
TZNAME:PDT
DTSTART:20220313T100000
END:DAYLIGHT
BEGIN:STANDARD
TZOFFSETFROM:-0700
TZOFFSETTO:-0800
TZNAME:PST
DTSTART:20221106T090000
END:STANDARD
BEGIN:DAYLIGHT
TZOFFSETFROM:-0800
TZOFFSETTO:-0700
TZNAME:PDT
DTSTART:20230312T100000
END:DAYLIGHT
BEGIN:STANDARD
TZOFFSETFROM:-0700
TZOFFSETTO:-0800
TZNAME:PST
DTSTART:20231105T090000
END:STANDARD
END:VTIMEZONE
BEGIN:VEVENT
DTSTART;TZID=America/Vancouver:20220105T183000
DTEND;TZID=America/Vancouver:20220105T200000
DTSTAMP:20260419T115359
CREATED:20210812T213553Z
LAST-MODIFIED:20230412T023831Z
UID:22176-1641407400-1641412800@familysupportbc.com
SUMMARY:Non-Speaking Autism
DESCRIPTION:SESSION INFO: « Back to all events\nOne-third of the children who receive an Autism Diagnosis remain nonspeaking despite the therapies and interventions. Is your child minimally verbal\, and it’s affecting his/her emotional wellbeing? Does your child understand what you tell him or stay unfocused and aloof? Are you experiencing meltdowns\, self-injurious or aggressive behaviours? Would you like to connect with parents who have walked the path before you and some at the same stage as yourself to gain some perspective and strategies?  \nAt FSI we would like to bring parents in this unique situation together for support\, empathy\, understanding and brainstorming some workable strategies. This will be a safe and confidential space for the families on a similar journey. We are better and stronger together. \nCLICK HERE TO REGISTER\nAfter registering\, you will receive a confirmation email containing information about joining the meeting. \n  \nFamily Support Institute of BC (FSI) is a provincial not-for-profit society committed to supporting families who have a family member with a disability. FSI is unique in Canada and the only grass roots family to family organization that has a broad volunteer base. \nFSI SUPPORTS AND SERVICES ARE FREE TO ANY FAMILY \nYou are invited to join FSI CONTINUING CONVERSATIONS\, a private Facebook Group intended to continue conversations of support or provide an alternative platform for support. www.facebook.com/groups/fsicontinuingconversations/ \nAll FSI Zoom sessions can be accessed by telephone only if access to computers and/or internet is a barrier. If you need assistance registering for any session\, please call our office at 1-800-441-5403. \n*FG
URL:https://familysupportbc.com/event/22176/2022-01-05/
CATEGORIES:FSI Event Calendar
ATTACH;FMTTYPE=image/jpeg:https://familysupportbc.com/wp-content/uploads/2021/08/Family-Hangout-NONVERBAL2.jpg
LOCATION:https://familysupportbc.com/event/22176/2022-01-05/
END:VEVENT
END:VCALENDAR