BEGIN:VCALENDAR
VERSION:2.0
PRODID:-//Family Support Institute - ECPv6.15.12.2//NONSGML v1.0//EN
CALSCALE:GREGORIAN
METHOD:PUBLISH
X-WR-CALNAME:Family Support Institute
X-ORIGINAL-URL:https://familysupportbc.com
X-WR-CALDESC:Events for Family Support Institute
REFRESH-INTERVAL;VALUE=DURATION:PT1H
X-Robots-Tag:noindex
X-PUBLISHED-TTL:PT1H
BEGIN:VTIMEZONE
TZID:America/Vancouver
BEGIN:DAYLIGHT
TZOFFSETFROM:-0800
TZOFFSETTO:-0700
TZNAME:PDT
DTSTART:20210314T100000
END:DAYLIGHT
BEGIN:STANDARD
TZOFFSETFROM:-0700
TZOFFSETTO:-0800
TZNAME:PST
DTSTART:20211107T090000
END:STANDARD
BEGIN:DAYLIGHT
TZOFFSETFROM:-0800
TZOFFSETTO:-0700
TZNAME:PDT
DTSTART:20220313T100000
END:DAYLIGHT
BEGIN:STANDARD
TZOFFSETFROM:-0700
TZOFFSETTO:-0800
TZNAME:PST
DTSTART:20221106T090000
END:STANDARD
BEGIN:DAYLIGHT
TZOFFSETFROM:-0800
TZOFFSETTO:-0700
TZNAME:PDT
DTSTART:20230312T100000
END:DAYLIGHT
BEGIN:STANDARD
TZOFFSETFROM:-0700
TZOFFSETTO:-0800
TZNAME:PST
DTSTART:20231105T090000
END:STANDARD
END:VTIMEZONE
BEGIN:VEVENT
DTSTART;TZID=America/Vancouver:20221022T133000
DTEND;TZID=America/Vancouver:20221022T143000
DTSTAMP:20260423T224817
CREATED:20221006T214653Z
LAST-MODIFIED:20221006T214654Z
UID:31485-1666445400-1666449000@familysupportbc.com
SUMMARY:A Success Story\, By Krystian Shaw- founder of the Kamloops Self Advocate Newsletter
DESCRIPTION:Hosted by Speaking Up Self Advocacy Society (SUSA)\, Krystian is presenting his newsletter and he will be discussing how his newsletter has been successful during these past 9 years!  \nFor more information about this event\, click here. \n  \nSUSA want to hear from you and get you connected! You can find out about upcoming events by visiting their Face Book page here or by emailing them: speakupkamloops@gmail.com 
URL:https://familysupportbc.com/event/a-success-story-by-krystian-shaw-founder-of-the-kamloops-self-advocate-newsletter/
LOCATION:BIG little Science Centre\, 458 Seymour St\, Kamloops\, British Columbia\, V2C 2G6\, Canada
CATEGORIES:Calendar for Connection
ATTACH;FMTTYPE=image/png:https://familysupportbc.com/wp-content/uploads/2022/10/2022_krystian-shaw.png
ORGANIZER;CN="Speak Up Self Advocacy Awareness Society":MAILTO:speakupkamloops@gmail.com
END:VEVENT
END:VCALENDAR