BEGIN:VCALENDAR
VERSION:2.0
PRODID:-//Family Support Institute - ECPv6.15.12.2//NONSGML v1.0//EN
CALSCALE:GREGORIAN
METHOD:PUBLISH
X-WR-CALNAME:Family Support Institute
X-ORIGINAL-URL:https://familysupportbc.com
X-WR-CALDESC:Events for Family Support Institute
REFRESH-INTERVAL;VALUE=DURATION:PT1H
X-Robots-Tag:noindex
X-PUBLISHED-TTL:PT1H
BEGIN:VTIMEZONE
TZID:America/Vancouver
BEGIN:DAYLIGHT
TZOFFSETFROM:-0800
TZOFFSETTO:-0700
TZNAME:PDT
DTSTART:20210314T100000
END:DAYLIGHT
BEGIN:STANDARD
TZOFFSETFROM:-0700
TZOFFSETTO:-0800
TZNAME:PST
DTSTART:20211107T090000
END:STANDARD
BEGIN:DAYLIGHT
TZOFFSETFROM:-0800
TZOFFSETTO:-0700
TZNAME:PDT
DTSTART:20220313T100000
END:DAYLIGHT
BEGIN:STANDARD
TZOFFSETFROM:-0700
TZOFFSETTO:-0800
TZNAME:PST
DTSTART:20221106T090000
END:STANDARD
BEGIN:DAYLIGHT
TZOFFSETFROM:-0800
TZOFFSETTO:-0700
TZNAME:PDT
DTSTART:20230312T100000
END:DAYLIGHT
BEGIN:STANDARD
TZOFFSETFROM:-0700
TZOFFSETTO:-0800
TZNAME:PST
DTSTART:20231105T090000
END:STANDARD
END:VTIMEZONE
BEGIN:VEVENT
DTSTART;TZID=America/Vancouver:20221209T173000
DTEND;TZID=America/Vancouver:20221209T190000
DTSTAMP:20260420T025148
CREATED:20221123T224209Z
LAST-MODIFIED:20221123T224209Z
UID:32427-1670607000-1670612400@familysupportbc.com
SUMMARY:A Taste of Curiko: Make Korean Fried Chicken
DESCRIPTION:SESSION INFO: « Back to all events\nWelcome to A Taste of Curiko\, I am your host Janey\, and I invite you to join me as I share my recipe for Korean Fried Chicken and introduce the Curiko Community!  \nYou will need:\n– Chicken wings or pieces of chicken thigh cut up\,\n– salt & pepper\n– corn starch\n– potato starch (optional)\n– gochujang (Korean red pepper paste)\n– honey\n– brown sugar\n– garlic- fresh\n– ginger- fresh\n– ketchup\n– sesame oil\n– soy sauce\n– oil for frying\n– green onions (optional)\n– measuring cups and spoons\, deep fryer or deep pan. \nYou are welcome to participate in what ever way you feel comfortable! you can just watch or you can follow along! If there is something specific help make this experience even better\, feel free to share! \n  \nJOIN THE EXPERIENCE
URL:https://familysupportbc.com/event/a-taste-of-curiko-make-korean-fried-chicken/
CATEGORIES:Calendar for Connection
ATTACH;FMTTYPE=image/png:https://familysupportbc.com/wp-content/uploads/2022/11/Korea-chick.png
END:VEVENT
END:VCALENDAR