BEGIN:VCALENDAR
VERSION:2.0
PRODID:-//Family Support Institute - ECPv6.15.12.2//NONSGML v1.0//EN
CALSCALE:GREGORIAN
METHOD:PUBLISH
X-WR-CALNAME:Family Support Institute
X-ORIGINAL-URL:https://familysupportbc.com
X-WR-CALDESC:Events for Family Support Institute
REFRESH-INTERVAL;VALUE=DURATION:PT1H
X-Robots-Tag:noindex
X-PUBLISHED-TTL:PT1H
BEGIN:VTIMEZONE
TZID:America/Vancouver
BEGIN:DAYLIGHT
TZOFFSETFROM:-0800
TZOFFSETTO:-0700
TZNAME:PDT
DTSTART:20210314T100000
END:DAYLIGHT
BEGIN:STANDARD
TZOFFSETFROM:-0700
TZOFFSETTO:-0800
TZNAME:PST
DTSTART:20211107T090000
END:STANDARD
BEGIN:DAYLIGHT
TZOFFSETFROM:-0800
TZOFFSETTO:-0700
TZNAME:PDT
DTSTART:20220313T100000
END:DAYLIGHT
BEGIN:STANDARD
TZOFFSETFROM:-0700
TZOFFSETTO:-0800
TZNAME:PST
DTSTART:20221106T090000
END:STANDARD
BEGIN:DAYLIGHT
TZOFFSETFROM:-0800
TZOFFSETTO:-0700
TZNAME:PDT
DTSTART:20230312T100000
END:DAYLIGHT
BEGIN:STANDARD
TZOFFSETFROM:-0700
TZOFFSETTO:-0800
TZNAME:PST
DTSTART:20231105T090000
END:STANDARD
END:VTIMEZONE
BEGIN:VEVENT
DTSTART;TZID=America/Vancouver:20220325T150000
DTEND;TZID=America/Vancouver:20220325T160000
DTSTAMP:20260422T085641
CREATED:20220308T172933Z
LAST-MODIFIED:20220308T172933Z
UID:26311-1648220400-1648224000@familysupportbc.com
SUMMARY:All About Anime
DESCRIPTION:SESSION INFO: « Back to all events\nAll About Anime\, hosted by Self Advocates of the Rockies Society \nCheck out Anime online here: https://m.wcostream.com/ \n  \nJoin Google Meets by clicking here or join by phone: +1 587-687-7657
URL:https://familysupportbc.com/event/all-about-anime-2/2022-03-25/
CATEGORIES:Calendar for Connection
ATTACH;FMTTYPE=image/png:https://familysupportbc.com/wp-content/uploads/2022/03/SAOR_anime_2022.png
ORGANIZER;CN="Self Advocates of the Rockies":MAILTO:&#099;&#114;a&#110;br&#111;&#111;&#107;&#115;&#097;o&#114;&#064;&#103;mai&#108;&#046;&#099;&#111;&#109;
LOCATION:https://familysupportbc.com/event/all-about-anime-2/2022-03-25/
END:VEVENT
END:VCALENDAR