BEGIN:VCALENDAR
VERSION:2.0
PRODID:-//Family Support Institute - ECPv6.15.12.2//NONSGML v1.0//EN
CALSCALE:GREGORIAN
METHOD:PUBLISH
X-WR-CALNAME:Family Support Institute
X-ORIGINAL-URL:https://familysupportbc.com
X-WR-CALDESC:Events for Family Support Institute
REFRESH-INTERVAL;VALUE=DURATION:PT1H
X-Robots-Tag:noindex
X-PUBLISHED-TTL:PT1H
BEGIN:VTIMEZONE
TZID:America/Vancouver
BEGIN:DAYLIGHT
TZOFFSETFROM:-0800
TZOFFSETTO:-0700
TZNAME:PDT
DTSTART:20230312T100000
END:DAYLIGHT
BEGIN:STANDARD
TZOFFSETFROM:-0700
TZOFFSETTO:-0800
TZNAME:PST
DTSTART:20231105T090000
END:STANDARD
BEGIN:DAYLIGHT
TZOFFSETFROM:-0800
TZOFFSETTO:-0700
TZNAME:PDT
DTSTART:20240310T100000
END:DAYLIGHT
BEGIN:STANDARD
TZOFFSETFROM:-0700
TZOFFSETTO:-0800
TZNAME:PST
DTSTART:20241103T090000
END:STANDARD
BEGIN:DAYLIGHT
TZOFFSETFROM:-0800
TZOFFSETTO:-0700
TZNAME:PDT
DTSTART:20250309T100000
END:DAYLIGHT
BEGIN:STANDARD
TZOFFSETFROM:-0700
TZOFFSETTO:-0800
TZNAME:PST
DTSTART:20251102T090000
END:STANDARD
END:VTIMEZONE
BEGIN:VEVENT
DTSTART;TZID=America/Vancouver:20240330T130000
DTEND;TZID=America/Vancouver:20240330T143000
DTSTAMP:20260420T204145
CREATED:20240306T214524Z
LAST-MODIFIED:20240306T214524Z
UID:39601-1711803600-1711809000@familysupportbc.com
SUMMARY:An 'Egg'cellent Hunt ~ An Extreme Easter Egg Challenge
DESCRIPTION:SESSION INFO: « Back to all events \nAre you ready for a challenge? Do you want to celebrate spring? Join Dickson and Suaraya for a fun easter egg hunt and tricky spring challenges. \nYou will go outside and hunt for eggs\, and find as many as you can. Keep an eye out for the golden egg because it worth a big surprise.Once the hunt is over you can trade the eggs in for goodies like chocolate eggs and peeps. The fun isn’t over with the egg hunt\, you will be challenged to complete silly games and tasks. \nYou’ll meet your host in Burnaby\, British Columbia! The exact address will be sent to you when the host confirms the experience! \n  \nJOIN THE EXPERIENCE
URL:https://familysupportbc.com/event/an-eggcellent-hunt-an-extreme-easter-egg-challenge/
LOCATION:Curiko Studios\, 4924 Imperial Street\, Burnaby\, British Columbia\, Canada
CATEGORIES:Calendar for Connection
ATTACH;FMTTYPE=image/png:https://familysupportbc.com/wp-content/uploads/2024/03/Egg-Hunt-Event-Poster.png
END:VEVENT
END:VCALENDAR