BEGIN:VCALENDAR
VERSION:2.0
PRODID:-//Family Support Institute - ECPv6.15.12.2//NONSGML v1.0//EN
CALSCALE:GREGORIAN
METHOD:PUBLISH
X-WR-CALNAME:Family Support Institute
X-ORIGINAL-URL:https://familysupportbc.com
X-WR-CALDESC:Events for Family Support Institute
REFRESH-INTERVAL;VALUE=DURATION:PT1H
X-Robots-Tag:noindex
X-PUBLISHED-TTL:PT1H
BEGIN:VTIMEZONE
TZID:America/Vancouver
BEGIN:DAYLIGHT
TZOFFSETFROM:-0800
TZOFFSETTO:-0700
TZNAME:PDT
DTSTART:20210314T100000
END:DAYLIGHT
BEGIN:STANDARD
TZOFFSETFROM:-0700
TZOFFSETTO:-0800
TZNAME:PST
DTSTART:20211107T090000
END:STANDARD
BEGIN:DAYLIGHT
TZOFFSETFROM:-0800
TZOFFSETTO:-0700
TZNAME:PDT
DTSTART:20220313T100000
END:DAYLIGHT
BEGIN:STANDARD
TZOFFSETFROM:-0700
TZOFFSETTO:-0800
TZNAME:PST
DTSTART:20221106T090000
END:STANDARD
BEGIN:DAYLIGHT
TZOFFSETFROM:-0800
TZOFFSETTO:-0700
TZNAME:PDT
DTSTART:20230312T100000
END:DAYLIGHT
BEGIN:STANDARD
TZOFFSETFROM:-0700
TZOFFSETTO:-0800
TZNAME:PST
DTSTART:20231105T090000
END:STANDARD
END:VTIMEZONE
BEGIN:VEVENT
DTSTART;TZID=America/Vancouver:20221108T150000
DTEND;TZID=America/Vancouver:20221108T160000
DTSTAMP:20260423T125913
CREATED:20221027T210617Z
LAST-MODIFIED:20221027T210632Z
UID:32124-1667919600-1667923200@familysupportbc.com
SUMMARY:Artist Spotlight
DESCRIPTION:Join us for this live interview series with a different artist every time! We’ll learn more about their creative journey and have time for questions! At our next Artist Spotlight on Tuesday Nov.8\, we’re meeting artist Nicole Heddema\, who also works with “Artists Helping Artists”. Learn more about her art journey and her work with this organization! \nMessage from Nicole: I am excited to tell you a little bit about my creative journey. I grew up in Alberta on a farm and am the oldest of 4. My mother was very creative and practiced many different art forms so I was always inspired by her creativity. I moved to Vancouver about 12 years ago and now have a diploma in holistic nutrition which has sincerely helped me in so many ways! I have a wonderful husband and a beautiful 4 year old son named Casper and now work as one of the AHA Art Facilitators (which I will tell you more about) and absolutely love my job! \n  \nJOIN THE EXPERIENCE
URL:https://familysupportbc.com/event/artist-spotlight/
CATEGORIES:Calendar for Connection
ATTACH;FMTTYPE=image/png:https://familysupportbc.com/wp-content/uploads/2022/10/artist-spotlight.png
END:VEVENT
END:VCALENDAR