BEGIN:VCALENDAR
VERSION:2.0
PRODID:-//Family Support Institute - ECPv6.15.12.2//NONSGML v1.0//EN
CALSCALE:GREGORIAN
METHOD:PUBLISH
X-WR-CALNAME:Family Support Institute
X-ORIGINAL-URL:https://familysupportbc.com
X-WR-CALDESC:Events for Family Support Institute
REFRESH-INTERVAL;VALUE=DURATION:PT1H
X-Robots-Tag:noindex
X-PUBLISHED-TTL:PT1H
BEGIN:VTIMEZONE
TZID:America/Vancouver
BEGIN:DAYLIGHT
TZOFFSETFROM:-0800
TZOFFSETTO:-0700
TZNAME:PDT
DTSTART:20210314T100000
END:DAYLIGHT
BEGIN:STANDARD
TZOFFSETFROM:-0700
TZOFFSETTO:-0800
TZNAME:PST
DTSTART:20211107T090000
END:STANDARD
BEGIN:DAYLIGHT
TZOFFSETFROM:-0800
TZOFFSETTO:-0700
TZNAME:PDT
DTSTART:20220313T100000
END:DAYLIGHT
BEGIN:STANDARD
TZOFFSETFROM:-0700
TZOFFSETTO:-0800
TZNAME:PST
DTSTART:20221106T090000
END:STANDARD
BEGIN:DAYLIGHT
TZOFFSETFROM:-0800
TZOFFSETTO:-0700
TZNAME:PDT
DTSTART:20230312T100000
END:DAYLIGHT
BEGIN:STANDARD
TZOFFSETFROM:-0700
TZOFFSETTO:-0800
TZNAME:PST
DTSTART:20231105T090000
END:STANDARD
END:VTIMEZONE
BEGIN:VEVENT
DTSTART;TZID=America/Vancouver:20220119T133000
DTEND;TZID=America/Vancouver:20220119T143000
DTSTAMP:20260419T115430
CREATED:20211213T191651Z
LAST-MODIFIED:20211213T191651Z
UID:25052-1642599000-1642602600@familysupportbc.com
SUMMARY:Benefits and Credits Presentation | CRA
DESCRIPTION:Don’t miss out on the benefits and credits to which you may be entitled. Some of the benefits and credits to which you may be eligible for are the Canada child benefit\, Disability tax credit\, Child disability benefit\, Goods and Services Tax/Harmonized Sales Tax Credit\, and the Canada Workers Benefit. If you do your taxes after the filing deadline\, your payments could be delayed. During the webinar we will be able to answer your questions live. \nWed Jan 19\, 2022 from 1:30-2:30pm PST\, \n Sat Jan 29\, 2022 from 11-12pm PST  \nThurs Feb 17\, 2022 from 1:30-2:30pm PST \nYou can register for one of the above webinars by going to the below link and clicking on the link associated with the date of your choice. \nhttps://canada.webex.com/canada/onstage/g.php?PRID=4f1473dfdd206ba0967b78ce55fe4326
URL:https://familysupportbc.com/event/benefits-and-credits-presentation-cra/2022-01-19/
CATEGORIES:External Event
ATTACH;FMTTYPE=image/svg+xml:https://familysupportbc.com/wp-content/uploads/2021/02/revenue2.svg
LOCATION:https://familysupportbc.com/event/benefits-and-credits-presentation-cra/2022-01-19/
END:VEVENT
END:VCALENDAR