BEGIN:VCALENDAR
VERSION:2.0
PRODID:-//Family Support Institute - ECPv6.15.12.2//NONSGML v1.0//EN
CALSCALE:GREGORIAN
METHOD:PUBLISH
X-WR-CALNAME:Family Support Institute
X-ORIGINAL-URL:https://familysupportbc.com
X-WR-CALDESC:Events for Family Support Institute
REFRESH-INTERVAL;VALUE=DURATION:PT1H
X-Robots-Tag:noindex
X-PUBLISHED-TTL:PT1H
BEGIN:VTIMEZONE
TZID:America/Vancouver
BEGIN:DAYLIGHT
TZOFFSETFROM:-0800
TZOFFSETTO:-0700
TZNAME:PDT
DTSTART:20210314T100000
END:DAYLIGHT
BEGIN:STANDARD
TZOFFSETFROM:-0700
TZOFFSETTO:-0800
TZNAME:PST
DTSTART:20211107T090000
END:STANDARD
BEGIN:DAYLIGHT
TZOFFSETFROM:-0800
TZOFFSETTO:-0700
TZNAME:PDT
DTSTART:20220313T100000
END:DAYLIGHT
BEGIN:STANDARD
TZOFFSETFROM:-0700
TZOFFSETTO:-0800
TZNAME:PST
DTSTART:20221106T090000
END:STANDARD
BEGIN:DAYLIGHT
TZOFFSETFROM:-0800
TZOFFSETTO:-0700
TZNAME:PDT
DTSTART:20230312T100000
END:DAYLIGHT
BEGIN:STANDARD
TZOFFSETFROM:-0700
TZOFFSETTO:-0800
TZNAME:PST
DTSTART:20231105T090000
END:STANDARD
END:VTIMEZONE
BEGIN:VEVENT
DTSTART;TZID=America/Vancouver:20220113T180000
DTEND;TZID=America/Vancouver:20220113T200000
DTSTAMP:20260421T062130
CREATED:20220111T220422Z
LAST-MODIFIED:20220111T220838Z
UID:25209-1642096800-1642104000@familysupportbc.com
SUMMARY:Care-aoke Party on Zoom!
DESCRIPTION:SESSION INFO: « Back to all events\nWe’re doing our best to keep your days merry & bright (under the weight of all the snow!) this winter. \nDo a solo or singalong with the group! \nCLICK HERE TO JOIN!\nEmail jaymes@nelsoncares.ca for more information or to request a song in advance
URL:https://familysupportbc.com/event/care-aoke-party-on-zoom-2/
CATEGORIES:Calendar for Connection
LOCATION:https://familysupportbc.com/event/care-aoke-party-on-zoom-2/
END:VEVENT
END:VCALENDAR