BEGIN:VCALENDAR
VERSION:2.0
PRODID:-//Family Support Institute - ECPv6.15.12.2//NONSGML v1.0//EN
CALSCALE:GREGORIAN
METHOD:PUBLISH
X-ORIGINAL-URL:https://familysupportbc.com
X-WR-CALDESC:Events for Family Support Institute
REFRESH-INTERVAL;VALUE=DURATION:PT1H
X-Robots-Tag:noindex
X-PUBLISHED-TTL:PT1H
BEGIN:VTIMEZONE
TZID:America/Vancouver
BEGIN:DAYLIGHT
TZOFFSETFROM:-0800
TZOFFSETTO:-0700
TZNAME:PDT
DTSTART:20250309T100000
END:DAYLIGHT
BEGIN:STANDARD
TZOFFSETFROM:-0700
TZOFFSETTO:-0800
TZNAME:PST
DTSTART:20251102T090000
END:STANDARD
BEGIN:DAYLIGHT
TZOFFSETFROM:-0800
TZOFFSETTO:-0700
TZNAME:PDT
DTSTART:20260308T100000
END:DAYLIGHT
BEGIN:STANDARD
TZOFFSETFROM:-0700
TZOFFSETTO:-0800
TZNAME:PST
DTSTART:20261101T090000
END:STANDARD
BEGIN:DAYLIGHT
TZOFFSETFROM:-0800
TZOFFSETTO:-0700
TZNAME:PDT
DTSTART:20270314T100000
END:DAYLIGHT
BEGIN:STANDARD
TZOFFSETFROM:-0700
TZOFFSETTO:-0800
TZNAME:PST
DTSTART:20271107T090000
END:STANDARD
END:VTIMEZONE
BEGIN:VEVENT
DTSTART;TZID=America/Vancouver:20260127T130000
DTEND;TZID=America/Vancouver:20260127T140000
DTSTAMP:20260420T041207
CREATED:20210831T182157Z
LAST-MODIFIED:20260121T225526Z
UID:22759-1769518800-1769522400@familysupportbc.com
SUMMARY:COACHES CORNER - online group experience
DESCRIPTION:SESSION INFO: « Back to all events \nCoaches Corner is a space for curiosity\, reflection\, connection and growth! A place to explore all kinds of moments and decide what to make of those moments! This week\, join Bella to explore what motivates us! How do we get things done\, especially when we don’t want to? Let’s talk about it! \nBring your growth-mindset and join us for Coaches Corner where we chat about all kinds of different topics! It’s a place to make connections and talk about things that matter! We’ve had topics in the past on things like anxiety\, boundaries\, resilience\, and neurodiverse love languges\, just to name a few! You are welcome to come and listen or share your unique ideas and thoughts with the group\, make or deepen connections\, learn about each other and simply be yourself! \n  \nCLICK HERE TO JOIN
URL:https://familysupportbc.com/event/coaches-corner/2026-01-27/
CATEGORIES:Calendar for Connection
ATTACH;FMTTYPE=image/png:https://familysupportbc.com/wp-content/uploads/2021/08/coach.png
LOCATION:https://familysupportbc.com/event/coaches-corner/2026-01-27/
END:VEVENT
END:VCALENDAR