BEGIN:VCALENDAR
VERSION:2.0
PRODID:-//Family Support Institute - ECPv6.15.12.2//NONSGML v1.0//EN
CALSCALE:GREGORIAN
METHOD:PUBLISH
X-WR-CALNAME:Family Support Institute
X-ORIGINAL-URL:https://familysupportbc.com
X-WR-CALDESC:Events for Family Support Institute
REFRESH-INTERVAL;VALUE=DURATION:PT1H
X-Robots-Tag:noindex
X-PUBLISHED-TTL:PT1H
BEGIN:VTIMEZONE
TZID:America/Vancouver
BEGIN:DAYLIGHT
TZOFFSETFROM:-0800
TZOFFSETTO:-0700
TZNAME:PDT
DTSTART:20230312T100000
END:DAYLIGHT
BEGIN:STANDARD
TZOFFSETFROM:-0700
TZOFFSETTO:-0800
TZNAME:PST
DTSTART:20231105T090000
END:STANDARD
BEGIN:DAYLIGHT
TZOFFSETFROM:-0800
TZOFFSETTO:-0700
TZNAME:PDT
DTSTART:20240310T100000
END:DAYLIGHT
BEGIN:STANDARD
TZOFFSETFROM:-0700
TZOFFSETTO:-0800
TZNAME:PST
DTSTART:20241103T090000
END:STANDARD
BEGIN:DAYLIGHT
TZOFFSETFROM:-0800
TZOFFSETTO:-0700
TZNAME:PDT
DTSTART:20250309T100000
END:DAYLIGHT
BEGIN:STANDARD
TZOFFSETFROM:-0700
TZOFFSETTO:-0800
TZNAME:PST
DTSTART:20251102T090000
END:STANDARD
END:VTIMEZONE
BEGIN:VEVENT
DTSTART;TZID=America/Vancouver:20240411T100000
DTEND;TZID=America/Vancouver:20240411T113000
DTSTAMP:20260420T042301
CREATED:20240306T215114Z
LAST-MODIFIED:20240306T215114Z
UID:39604-1712829600-1712835000@familysupportbc.com
SUMMARY:Crafting Your Interior Design Vision
DESCRIPTION:SESSION INFO: « Back to all events \nHave you ever wanted to uncover your inner designer? In this experience we’ll learn about mood boards\, which are a way to create a sense of mood and style for a space. We’ll look at some different examples of mood boards and afterwards\, we’ll work to create our own personal mood boards. We’ll think about designing on a budget and how to create cohesive looks. \nIn a group setting\, you’ll work with magazine cut outs to create mood boards based on things that inspire you. You’ll have the opportunity to think about different types of rooms (for example living rooms\, bedrooms\, dining rooms)\, what pieces of furniture and accessories you typically find in those rooms\, and how you’d like to style those spaces. \nYou’ll meet your host in Burnaby! The exact address will be sent to you when the host confirms the experience! \nJOIN THE EXPERIENCE\n  \nThe space is wheelchair accessible however the front ramp is narrow and there are no automatic doors. Let the host know if you have any accessibility needs. \nThis experience takes place nearby Metrotown in Burnaby. Expect loud traffic sounds. There is one bathroom. Large open space.
URL:https://familysupportbc.com/event/crafting-your-interior-design-vision/
CATEGORIES:Calendar for Connection
END:VEVENT
END:VCALENDAR