BEGIN:VCALENDAR
VERSION:2.0
PRODID:-//Family Support Institute - ECPv6.15.12.2//NONSGML v1.0//EN
CALSCALE:GREGORIAN
METHOD:PUBLISH
X-WR-CALNAME:Family Support Institute
X-ORIGINAL-URL:https://familysupportbc.com
X-WR-CALDESC:Events for Family Support Institute
REFRESH-INTERVAL;VALUE=DURATION:PT1H
X-Robots-Tag:noindex
X-PUBLISHED-TTL:PT1H
BEGIN:VTIMEZONE
TZID:America/Vancouver
BEGIN:DAYLIGHT
TZOFFSETFROM:-0800
TZOFFSETTO:-0700
TZNAME:PDT
DTSTART:20230312T100000
END:DAYLIGHT
BEGIN:STANDARD
TZOFFSETFROM:-0700
TZOFFSETTO:-0800
TZNAME:PST
DTSTART:20231105T090000
END:STANDARD
BEGIN:DAYLIGHT
TZOFFSETFROM:-0800
TZOFFSETTO:-0700
TZNAME:PDT
DTSTART:20240310T100000
END:DAYLIGHT
BEGIN:STANDARD
TZOFFSETFROM:-0700
TZOFFSETTO:-0800
TZNAME:PST
DTSTART:20241103T090000
END:STANDARD
BEGIN:DAYLIGHT
TZOFFSETFROM:-0800
TZOFFSETTO:-0700
TZNAME:PDT
DTSTART:20250309T100000
END:DAYLIGHT
BEGIN:STANDARD
TZOFFSETFROM:-0700
TZOFFSETTO:-0800
TZNAME:PST
DTSTART:20251102T090000
END:STANDARD
END:VTIMEZONE
BEGIN:VEVENT
DTSTART;TZID=America/Vancouver:20240829T190000
DTEND;TZID=America/Vancouver:20240829T203000
DTSTAMP:20260423T222504
CREATED:20240820T205610Z
LAST-MODIFIED:20240820T205610Z
UID:41344-1724958000-1724963400@familysupportbc.com
SUMMARY:Creative Writing for Positivity
DESCRIPTION:reative writing for the experienced writers and those who would like to try. All are invited to play with words to create and experience positivity. \nThere will be a few positive writing prompts\, a bit of guidance\, and time to write and share. This experience is not about critiquing\, but simply writing for enjoyment\, and supporting each other. \n  \nBOOK YOUR EXPERIENCE
URL:https://familysupportbc.com/event/creative-writing-for-positivity-2/
CATEGORIES:Calendar for Connection
ATTACH;FMTTYPE=image/jpeg:https://familysupportbc.com/wp-content/uploads/2024/08/poetry-scaled.jpg
END:VEVENT
END:VCALENDAR