BEGIN:VCALENDAR
VERSION:2.0
PRODID:-//Family Support Institute - ECPv6.15.12.2//NONSGML v1.0//EN
CALSCALE:GREGORIAN
METHOD:PUBLISH
X-WR-CALNAME:Family Support Institute
X-ORIGINAL-URL:https://familysupportbc.com
X-WR-CALDESC:Events for Family Support Institute
REFRESH-INTERVAL;VALUE=DURATION:PT1H
X-Robots-Tag:noindex
X-PUBLISHED-TTL:PT1H
BEGIN:VTIMEZONE
TZID:America/Vancouver
BEGIN:DAYLIGHT
TZOFFSETFROM:-0800
TZOFFSETTO:-0700
TZNAME:PDT
DTSTART:20240310T100000
END:DAYLIGHT
BEGIN:STANDARD
TZOFFSETFROM:-0700
TZOFFSETTO:-0800
TZNAME:PST
DTSTART:20241103T090000
END:STANDARD
BEGIN:DAYLIGHT
TZOFFSETFROM:-0800
TZOFFSETTO:-0700
TZNAME:PDT
DTSTART:20250309T100000
END:DAYLIGHT
BEGIN:STANDARD
TZOFFSETFROM:-0700
TZOFFSETTO:-0800
TZNAME:PST
DTSTART:20251102T090000
END:STANDARD
BEGIN:DAYLIGHT
TZOFFSETFROM:-0800
TZOFFSETTO:-0700
TZNAME:PDT
DTSTART:20260308T100000
END:DAYLIGHT
BEGIN:STANDARD
TZOFFSETFROM:-0700
TZOFFSETTO:-0800
TZNAME:PST
DTSTART:20261101T090000
END:STANDARD
END:VTIMEZONE
BEGIN:VEVENT
DTSTART;TZID=America/Vancouver:20250807T190000
DTEND;TZID=America/Vancouver:20250807T203000
DTSTAMP:20260420T061441
CREATED:20250710T183513Z
LAST-MODIFIED:20250710T183631Z
UID:48267-1754593200-1754598600@familysupportbc.com
SUMMARY:DTC Webinar
DESCRIPTION:The Disability Tax Credit (DTC) is a non-refundable federal tax credit that can help reduce the amount of taxes owed by a person with a disability or someone who supports them. It is also a gateway benefit that gives access to the Canada Disability Benefit and RDSP.  \nAbout the webinar\nThe Disability Tax Credit (DTC) is a non-refundable federal tax credit that can help reduce the amount of taxes owed by a person with a disability or someone who supports them. It is also a gateway benefit that gives access to other programs such as the Canada Disability Benefit and the Registered Disability Savings Plan. \nThere are many ways that somebody can qualify for the DTC\, and we know that only about 16% of people who could be eligible for this credit are actually receiving it. This webinar was created with our partners at Disability Alliance BC (DABC) and aims to address some of the misconceptions about the DTC and provide people with the information they need to successfully apply. \nThis webinar will explain what the DTC is and how to make the best use of it\, and also includes information about eligibility criteria\, application tips\, and what happens after you apply. At the end of the webinar\, there is a 45 minute question and answer period with a DTC specialist. \nWhat’s covered: \n\nWhat the Disability Tax Credit (DTC) is\, and how much it is worth\nOther benefits of the DTC\, including the Canada Disability Benefit (CDB) and Registered Disability Savings Plan (RDSP)\nEligibility criteria\nHow to apply\, including top tips\nWhat happens after you submit the DTC application\n\nWho should attend \nThis webinar is for anyone who would like information and support around the DTC\, including disabled folks\, family members or support people\, and professionals. \nEligibility for the DTC is based on how your disability or condition affects your daily life\, rather than a diagnosis\, and so we encourage all folks who think they may experience restrictions to attend. \nCost \nThe webinar is free. There is no cost to attend. \nInformation for people who are deaf or hard of hearing \nThis webinar is accessible to people who are deaf or hard of hearing as long as person attending uses the Zoom app. The pre-recorded presentation has American Sign Language (ASL) and closed captions embedded into the video. For the introduction and live Q&A at the end\, we use Zoom’s automatic captioning function. If you require ASL for the full duration of the webinar or have other accessibility needs that we have not covered\, please reach out to us to let us know and we may be able to help. \nLocation \nThe webinar can be attended by computer from anywhere in Canada. All times are listed in Pacific Standard Time (PST). You will receive more information about how to access the webinar after you register. \nFacilitators \nCynthia Minh\, Disability Alliance BC \n  \nREGISTER HERE
URL:https://familysupportbc.com/event/dtc-webinar/
CATEGORIES:External Event
ATTACH;FMTTYPE=image/png:https://familysupportbc.com/wp-content/uploads/2025/07/DTC.png
END:VEVENT
END:VCALENDAR