BEGIN:VCALENDAR
VERSION:2.0
PRODID:-//Family Support Institute - ECPv6.15.12.2//NONSGML v1.0//EN
CALSCALE:GREGORIAN
METHOD:PUBLISH
X-WR-CALNAME:Family Support Institute
X-ORIGINAL-URL:https://familysupportbc.com
X-WR-CALDESC:Events for Family Support Institute
REFRESH-INTERVAL;VALUE=DURATION:PT1H
X-Robots-Tag:noindex
X-PUBLISHED-TTL:PT1H
BEGIN:VTIMEZONE
TZID:America/Vancouver
BEGIN:DAYLIGHT
TZOFFSETFROM:-0800
TZOFFSETTO:-0700
TZNAME:PDT
DTSTART:20230312T100000
END:DAYLIGHT
BEGIN:STANDARD
TZOFFSETFROM:-0700
TZOFFSETTO:-0800
TZNAME:PST
DTSTART:20231105T090000
END:STANDARD
BEGIN:DAYLIGHT
TZOFFSETFROM:-0800
TZOFFSETTO:-0700
TZNAME:PDT
DTSTART:20240310T100000
END:DAYLIGHT
BEGIN:STANDARD
TZOFFSETFROM:-0700
TZOFFSETTO:-0800
TZNAME:PST
DTSTART:20241103T090000
END:STANDARD
BEGIN:DAYLIGHT
TZOFFSETFROM:-0800
TZOFFSETTO:-0700
TZNAME:PDT
DTSTART:20250309T100000
END:DAYLIGHT
BEGIN:STANDARD
TZOFFSETFROM:-0700
TZOFFSETTO:-0800
TZNAME:PST
DTSTART:20251102T090000
END:STANDARD
END:VTIMEZONE
BEGIN:VEVENT
DTSTART;TZID=America/Vancouver:20240117T183000
DTEND;TZID=America/Vancouver:20240117T203000
DTSTAMP:20260421T131658
CREATED:20231025T214315Z
LAST-MODIFIED:20231025T214315Z
UID:37596-1705516200-1705523400@familysupportbc.com
SUMMARY:Employees\, Contractors\, and Respite
DESCRIPTION:SESSION INFO: « Back to all events \nHiring support staff and respite providers is not always as straightforward as it seems. This webinar will look at the difference between hiring employees and contractors when it comes to caregivers\, support staff\, and respite providers. Each position has specific rules and regulations to follow and we will dive into your responsibilities when hiring\, as well as the obligations of employers and contractors when it comes to the Canada Revenue Agency (CRA)\, WorkSafe BC\, and Employment Standards. \n  \nREGISTER HERE\n  \nFamily Support Institute of BC (FSI) is a provincial not-for-profit society committed to supporting families who have a family member with a disability.\nFSI is unique in Canada and the only grass roots family to family organization that has a broad volunteer base. \nFSI SUPPORTS AND SERVICES ARE FREE TO ANY FAMILY \nAfter the session you are encouraged to share your feedback. This helps FSI improve our content to better serve the needs of families.\nhttps://app.smartsheet.com/b/form/52ef23e13270439d9d97d32a0b229bbc \nAll FSI Zoom sessions can be accessed by telephone only if access to computers and/or internet is a barrier. If you need assistance registering for any session\, please call our office at 1-800-441-5403.
URL:https://familysupportbc.com/event/employees-contractors-and-respite/
CATEGORIES:FSI Event Calendar,Learning Exploration Sessions
ATTACH;FMTTYPE=image/jpeg:https://familysupportbc.com/wp-content/uploads/2023/10/LE2024-FB-ECR-scaled.jpg
END:VEVENT
END:VCALENDAR