BEGIN:VCALENDAR
VERSION:2.0
PRODID:-//Family Support Institute - ECPv6.15.12.2//NONSGML v1.0//EN
CALSCALE:GREGORIAN
METHOD:PUBLISH
X-WR-CALNAME:Family Support Institute
X-ORIGINAL-URL:https://familysupportbc.com
X-WR-CALDESC:Events for Family Support Institute
REFRESH-INTERVAL;VALUE=DURATION:PT1H
X-Robots-Tag:noindex
X-PUBLISHED-TTL:PT1H
BEGIN:VTIMEZONE
TZID:America/Vancouver
BEGIN:DAYLIGHT
TZOFFSETFROM:-0800
TZOFFSETTO:-0700
TZNAME:PDT
DTSTART:20230312T100000
END:DAYLIGHT
BEGIN:STANDARD
TZOFFSETFROM:-0700
TZOFFSETTO:-0800
TZNAME:PST
DTSTART:20231105T090000
END:STANDARD
BEGIN:DAYLIGHT
TZOFFSETFROM:-0800
TZOFFSETTO:-0700
TZNAME:PDT
DTSTART:20240310T100000
END:DAYLIGHT
BEGIN:STANDARD
TZOFFSETFROM:-0700
TZOFFSETTO:-0800
TZNAME:PST
DTSTART:20241103T090000
END:STANDARD
BEGIN:DAYLIGHT
TZOFFSETFROM:-0800
TZOFFSETTO:-0700
TZNAME:PDT
DTSTART:20250309T100000
END:DAYLIGHT
BEGIN:STANDARD
TZOFFSETFROM:-0700
TZOFFSETTO:-0800
TZNAME:PST
DTSTART:20251102T090000
END:STANDARD
END:VTIMEZONE
BEGIN:VEVENT
DTSTART;TZID=America/Vancouver:20240422T110000
DTEND;TZID=America/Vancouver:20240422T120000
DTSTAMP:20260420T024317
CREATED:20240417T210741Z
LAST-MODIFIED:20240417T210741Z
UID:39731-1713783600-1713787200@familysupportbc.com
SUMMARY:Friendly Feedback Sessions
DESCRIPTION:If you are interested in making your work or ideas more accessible\, bring something you are working on (e.g. presentation\, slide deck\, article\, training materials\, poster\, etc) and anyone that joins this group can choose to provide some suggestions and feedback for you and your project\, or you can join us as an observer to learn the art of how to give and get some friendly feedback! \nOnce a month we will gather on zoom to give and receive feedback on something that we are working on. The reason we do this is because getting feedback and sharing ideas with a diverse group of people helps to improve communication and accessibility. We want everyone to understand and really get what it is we are trying to share! It is also a place for us to practice giving feedback\, because that can be difficult sometimes. \n  \nBOOK YOUR EXPERIENCE
URL:https://familysupportbc.com/event/friendly-feedback-sessions/
CATEGORIES:Calendar for Connection
END:VEVENT
END:VCALENDAR