BEGIN:VCALENDAR
VERSION:2.0
PRODID:-//Family Support Institute - ECPv6.15.12.2//NONSGML v1.0//EN
CALSCALE:GREGORIAN
METHOD:PUBLISH
X-WR-CALNAME:Family Support Institute
X-ORIGINAL-URL:https://familysupportbc.com
X-WR-CALDESC:Events for Family Support Institute
REFRESH-INTERVAL;VALUE=DURATION:PT1H
X-Robots-Tag:noindex
X-PUBLISHED-TTL:PT1H
BEGIN:VTIMEZONE
TZID:America/Vancouver
BEGIN:DAYLIGHT
TZOFFSETFROM:-0800
TZOFFSETTO:-0700
TZNAME:PDT
DTSTART:20200308T100000
END:DAYLIGHT
BEGIN:STANDARD
TZOFFSETFROM:-0700
TZOFFSETTO:-0800
TZNAME:PST
DTSTART:20201101T090000
END:STANDARD
BEGIN:DAYLIGHT
TZOFFSETFROM:-0800
TZOFFSETTO:-0700
TZNAME:PDT
DTSTART:20210314T100000
END:DAYLIGHT
BEGIN:STANDARD
TZOFFSETFROM:-0700
TZOFFSETTO:-0800
TZNAME:PST
DTSTART:20211107T090000
END:STANDARD
BEGIN:DAYLIGHT
TZOFFSETFROM:-0800
TZOFFSETTO:-0700
TZNAME:PDT
DTSTART:20220313T100000
END:DAYLIGHT
BEGIN:STANDARD
TZOFFSETFROM:-0700
TZOFFSETTO:-0800
TZNAME:PST
DTSTART:20221106T090000
END:STANDARD
END:VTIMEZONE
BEGIN:VEVENT
DTSTART;TZID=America/Vancouver:20210612T130000
DTEND;TZID=America/Vancouver:20210612T140000
DTSTAMP:20260422T110242
CREATED:20210525T092230Z
LAST-MODIFIED:20210527T103038Z
UID:19470-1623502800-1623506400@familysupportbc.com
SUMMARY:FSI Learning Explorations - Beginners Minecraft Social Party
DESCRIPTION:SESSION INFO:   « Back to all events\nThis session is reserved for youth ages 9-17\nLimited Enrollment – max 10 participants\nRegistration closes June 7\, 2021 \nNew to Minecraft and want to learn the game? \nThis event will focus on introducing the basics of Minecraft Survival mode. We will learn how to mine\, build\, and even fight mobs\, the monsters in Minecraft. \nIf you do not have the Minecraft game yet\, no worries. Choose the assisted set-up option when you register so our team can help you get set-up! Please note\, there is a $35 one-time fee to buy the game. This session is reserved for youth 9-17. \nLimited Enrolment – max 10 participantsFSI has partnered with Elysium for 2 sessions on June 12! Elysium is a Minecraft server for neurodivergent kids to build & explore together. \nPlayers of all social and learning differences\, including\, but not limited to Autism\, ADHA\, and other learning disabilities are welcome. Elysium is a non-profit dedicated to empowering neurodivergent youth through play by creating a safe virtual space for them to express themselves\, build confidence and forge connections. Elysium has been working in partnership with other community organizations to deliver Minecraft based recreational programs for their audiences. Elysium has a zero-tolerance policy for bullying\, builds are protected\, and the priority is that Elysium stays a welcoming and fun world for all players. Moderators are online to provide support and enforce served rules between 4- 8 pm PST. \n**Please note that both sessions are only available for Minecraft Java Edition (for computer\, NOT for tablet\, iPad\, mobile or consoles). Thank you! \n  \nClick Here to Register!  \nAfter registering\, you will receive a confirmation email containing information about joining the meeting. \n 
URL:https://familysupportbc.com/event/fsi-learning-explorations-beginners-minecraft-social-party/
CATEGORIES:FSI Event Calendar,Learning Exploration Sessions
ATTACH;FMTTYPE=image/jpeg:https://familysupportbc.com/wp-content/uploads/2021/05/LE2021-FB-event-MineBeg-scaled.jpg
LOCATION:https://familysupportbc.com/event/fsi-learning-explorations-beginners-minecraft-social-party/
END:VEVENT
END:VCALENDAR