BEGIN:VCALENDAR
VERSION:2.0
PRODID:-//Family Support Institute - ECPv6.15.12.2//NONSGML v1.0//EN
CALSCALE:GREGORIAN
METHOD:PUBLISH
X-WR-CALNAME:Family Support Institute
X-ORIGINAL-URL:https://familysupportbc.com
X-WR-CALDESC:Events for Family Support Institute
REFRESH-INTERVAL;VALUE=DURATION:PT1H
X-Robots-Tag:noindex
X-PUBLISHED-TTL:PT1H
BEGIN:VTIMEZONE
TZID:America/Vancouver
BEGIN:DAYLIGHT
TZOFFSETFROM:-0800
TZOFFSETTO:-0700
TZNAME:PDT
DTSTART:20230312T100000
END:DAYLIGHT
BEGIN:STANDARD
TZOFFSETFROM:-0700
TZOFFSETTO:-0800
TZNAME:PST
DTSTART:20231105T090000
END:STANDARD
BEGIN:DAYLIGHT
TZOFFSETFROM:-0800
TZOFFSETTO:-0700
TZNAME:PDT
DTSTART:20240310T100000
END:DAYLIGHT
BEGIN:STANDARD
TZOFFSETFROM:-0700
TZOFFSETTO:-0800
TZNAME:PST
DTSTART:20241103T090000
END:STANDARD
BEGIN:DAYLIGHT
TZOFFSETFROM:-0800
TZOFFSETTO:-0700
TZNAME:PDT
DTSTART:20250309T100000
END:DAYLIGHT
BEGIN:STANDARD
TZOFFSETFROM:-0700
TZOFFSETTO:-0800
TZNAME:PST
DTSTART:20251102T090000
END:STANDARD
END:VTIMEZONE
BEGIN:VEVENT
DTSTART;TZID=America/Vancouver:20240422T130000
DTEND;TZID=America/Vancouver:20240422T140000
DTSTAMP:20260420T101024
CREATED:20240417T211431Z
LAST-MODIFIED:20240417T211431Z
UID:39742-1713790800-1713794400@familysupportbc.com
SUMMARY:How to Garden: Learning about Plants
DESCRIPTION:SESSION INFO: « Back to all events \nHave you ever been curious about gardening? Join Elizabeth to talk about how plants in the garden grow. During this online experience\, we’ll plan gardening activities to do together over the summer months. \nAre you interested in working in a garden with Elizabeth over the summer? If so\, join this experience to plan out some summer gardening activities. We’ll learn about seeds and seedlings; general gardening practices; and what to expect from Elizabeth’s in-person gardening experience happening summer 2024. \n  \nJOIN THE EXPERIENCE
URL:https://familysupportbc.com/event/how-to-garden-learning-about-plants/
CATEGORIES:Calendar for Connection
ATTACH;FMTTYPE=image/jpeg:https://familysupportbc.com/wp-content/uploads/2024/04/garden.jpg
END:VEVENT
END:VCALENDAR