BEGIN:VCALENDAR
VERSION:2.0
PRODID:-//Family Support Institute - ECPv6.15.12.2//NONSGML v1.0//EN
CALSCALE:GREGORIAN
METHOD:PUBLISH
X-WR-CALNAME:Family Support Institute
X-ORIGINAL-URL:https://familysupportbc.com
X-WR-CALDESC:Events for Family Support Institute
REFRESH-INTERVAL;VALUE=DURATION:PT1H
X-Robots-Tag:noindex
X-PUBLISHED-TTL:PT1H
BEGIN:VTIMEZONE
TZID:America/Vancouver
BEGIN:DAYLIGHT
TZOFFSETFROM:-0800
TZOFFSETTO:-0700
TZNAME:PDT
DTSTART:20240310T100000
END:DAYLIGHT
BEGIN:STANDARD
TZOFFSETFROM:-0700
TZOFFSETTO:-0800
TZNAME:PST
DTSTART:20241103T090000
END:STANDARD
BEGIN:DAYLIGHT
TZOFFSETFROM:-0800
TZOFFSETTO:-0700
TZNAME:PDT
DTSTART:20250309T100000
END:DAYLIGHT
BEGIN:STANDARD
TZOFFSETFROM:-0700
TZOFFSETTO:-0800
TZNAME:PST
DTSTART:20251102T090000
END:STANDARD
BEGIN:DAYLIGHT
TZOFFSETFROM:-0800
TZOFFSETTO:-0700
TZNAME:PDT
DTSTART:20260308T100000
END:DAYLIGHT
BEGIN:STANDARD
TZOFFSETFROM:-0700
TZOFFSETTO:-0800
TZNAME:PST
DTSTART:20261101T090000
END:STANDARD
END:VTIMEZONE
BEGIN:VEVENT
DTSTART;TZID=America/Vancouver:20250812T123000
DTEND;TZID=America/Vancouver:20250812T143000
DTSTAMP:20260421T032441
CREATED:20250714T185114Z
LAST-MODIFIED:20250714T185114Z
UID:48277-1755001800-1755009000@familysupportbc.com
SUMMARY:Kindergarten Transitions
DESCRIPTION:Transitioning from preschool or childcare into school can be particularly challenging for parents and their children when extra supports are required. \nAdditional care is needed to ensure a smooth process and understand how to navigate the school system This workshop is designed for parents of preschoolers and kindergarteners to learn what to expect during those first months of Kindergarten. \n  \nCLICK TO REGISTER\n  \nFamily Support Institute of BC (FSI) is a provincial not-for-profit society committed to supporting families who have a family member with a disability. FSI is unique in Canada and the only grass roots family to family organization that has a broad volunteer base. \nFSI SUPPORTS AND SERVICES ARE FREE TO ANY FAMILY \n  \nAfter the session you are encouraged to share your feedback. This helps FSI improve our content to better serve the needs of families. \nhttps://app.smartsheet.com/b/form/52ef23e13270439d9d97d32a0b229bbc \n  \nAll FSI Zoom sessions can be accessed by telephone only if access to computers and/or internet is a barrier.   If you need assistance registering for any session\, please call our office at 1-800-441-5403.  \n  \nYou are invited to join FSI EARLY YEARS TRANSITIONS\, this online forum was created by The Family Support Institute of BC aimed to support families navigate the journey of transitioning into Kindergarten for their loved ones through peer-to-peer support and shared experiences. https://www.facebook.com/groups/fsitransitiontok
URL:https://familysupportbc.com/event/kindergarten-transitions-3/2025-08-12/
CATEGORIES:FSI Event Calendar,Learning Exploration Sessions,Transitions
ATTACH;FMTTYPE=image/jpeg:https://familysupportbc.com/wp-content/uploads/2025/07/LE2025-FB-event-kinderaug8.jpg
END:VEVENT
END:VCALENDAR