BEGIN:VCALENDAR
VERSION:2.0
PRODID:-//Family Support Institute - ECPv6.15.12.2//NONSGML v1.0//EN
CALSCALE:GREGORIAN
METHOD:PUBLISH
X-WR-CALNAME:Family Support Institute
X-ORIGINAL-URL:https://familysupportbc.com
X-WR-CALDESC:Events for Family Support Institute
REFRESH-INTERVAL;VALUE=DURATION:PT1H
X-Robots-Tag:noindex
X-PUBLISHED-TTL:PT1H
BEGIN:VTIMEZONE
TZID:America/Vancouver
BEGIN:DAYLIGHT
TZOFFSETFROM:-0800
TZOFFSETTO:-0700
TZNAME:PDT
DTSTART:20240310T100000
END:DAYLIGHT
BEGIN:STANDARD
TZOFFSETFROM:-0700
TZOFFSETTO:-0800
TZNAME:PST
DTSTART:20241103T090000
END:STANDARD
BEGIN:DAYLIGHT
TZOFFSETFROM:-0800
TZOFFSETTO:-0700
TZNAME:PDT
DTSTART:20250309T100000
END:DAYLIGHT
BEGIN:STANDARD
TZOFFSETFROM:-0700
TZOFFSETTO:-0800
TZNAME:PST
DTSTART:20251102T090000
END:STANDARD
BEGIN:DAYLIGHT
TZOFFSETFROM:-0800
TZOFFSETTO:-0700
TZNAME:PDT
DTSTART:20260308T100000
END:DAYLIGHT
BEGIN:STANDARD
TZOFFSETFROM:-0700
TZOFFSETTO:-0800
TZNAME:PST
DTSTART:20261101T090000
END:STANDARD
END:VTIMEZONE
BEGIN:VEVENT
DTSTART;TZID=America/Vancouver:20250930T170000
DTEND;TZID=America/Vancouver:20250930T180000
DTSTAMP:20260423T075253
CREATED:20250929T174625Z
LAST-MODIFIED:20250929T174625Z
UID:49212-1759251600-1759255200@familysupportbc.com
SUMMARY:Laughter Yoga
DESCRIPTION:Join Aggie via ZOOM (1 hour) for HALLOWEEN Laughter Yoga! The art of laughing for no reason and the science of breathing\, with an abundance of health benefits! Laughter Yoga is not traditional yoga and also does not rely on jokes nor comedy. Laughter Yoga is all about fun laughter & breathing exercises we can all do together! Pets are welcome! \nWhat Will You Do?\nI will share a brief history of Laughter Yoga & what it is. I’ll explain verbally & show visually what the Laughter Exercises & Breathing Exercises look like; we will then do the exercises altogether! \n  \nCLICK TO JOIN THE EXPERIENCE
URL:https://familysupportbc.com/event/laughter-yoga/
CATEGORIES:Calendar for Connection
ATTACH;FMTTYPE=image/jpeg:https://familysupportbc.com/wp-content/uploads/2024/08/yoga2-1.jpg
END:VEVENT
END:VCALENDAR