BEGIN:VCALENDAR
VERSION:2.0
PRODID:-//Family Support Institute - ECPv6.15.12.2//NONSGML v1.0//EN
CALSCALE:GREGORIAN
METHOD:PUBLISH
X-WR-CALNAME:Family Support Institute
X-ORIGINAL-URL:https://familysupportbc.com
X-WR-CALDESC:Events for Family Support Institute
REFRESH-INTERVAL;VALUE=DURATION:PT1H
X-Robots-Tag:noindex
X-PUBLISHED-TTL:PT1H
BEGIN:VTIMEZONE
TZID:America/Vancouver
BEGIN:DAYLIGHT
TZOFFSETFROM:-0800
TZOFFSETTO:-0700
TZNAME:PDT
DTSTART:20210314T100000
END:DAYLIGHT
BEGIN:STANDARD
TZOFFSETFROM:-0700
TZOFFSETTO:-0800
TZNAME:PST
DTSTART:20211107T090000
END:STANDARD
BEGIN:DAYLIGHT
TZOFFSETFROM:-0800
TZOFFSETTO:-0700
TZNAME:PDT
DTSTART:20220313T100000
END:DAYLIGHT
BEGIN:STANDARD
TZOFFSETFROM:-0700
TZOFFSETTO:-0800
TZNAME:PST
DTSTART:20221106T090000
END:STANDARD
BEGIN:DAYLIGHT
TZOFFSETFROM:-0800
TZOFFSETTO:-0700
TZNAME:PDT
DTSTART:20230312T100000
END:DAYLIGHT
BEGIN:STANDARD
TZOFFSETFROM:-0700
TZOFFSETTO:-0800
TZNAME:PST
DTSTART:20231105T090000
END:STANDARD
END:VTIMEZONE
BEGIN:VEVENT
DTSTART;TZID=America/Vancouver:20221203T110000
DTEND;TZID=America/Vancouver:20221203T123000
DTSTAMP:20260423T105653
CREATED:20221123T221613Z
LAST-MODIFIED:20221123T221613Z
UID:32413-1670065200-1670070600@familysupportbc.com
SUMMARY:Monthly Hiking Group | In Person
DESCRIPTION:Get outside and enjoy nature with easy hikes enjoyed in a group. This Month explore the nature centre near Burnaby Lake with friends! \nWe will meet at Production Way – University Skytrain station and then walk to the nature trails around Burnaby Lake! Enjoy nature and look at the winter birds. \n\n\n\nPlease bring a warm jacket\, a water bottle\, and a snack. Please also bring an extra rain jacket or umbrella in case of rain. \nBurnaby lake trail is wheelchair accessible! The walk will be about 3 km but it is mostly flat. \n\n\n\n  \nJOIN THE EXPERIENCE
URL:https://familysupportbc.com/event/monthly-hiking-group-in-person-2/
CATEGORIES:Calendar for Connection
ATTACH;FMTTYPE=image/png:https://familysupportbc.com/wp-content/uploads/2022/11/burnaby-lake.png
END:VEVENT
END:VCALENDAR