BEGIN:VCALENDAR
VERSION:2.0
PRODID:-//Family Support Institute - ECPv6.15.12.2//NONSGML v1.0//EN
CALSCALE:GREGORIAN
METHOD:PUBLISH
X-WR-CALNAME:Family Support Institute
X-ORIGINAL-URL:https://familysupportbc.com
X-WR-CALDESC:Events for Family Support Institute
REFRESH-INTERVAL;VALUE=DURATION:PT1H
X-Robots-Tag:noindex
X-PUBLISHED-TTL:PT1H
BEGIN:VTIMEZONE
TZID:America/Vancouver
BEGIN:DAYLIGHT
TZOFFSETFROM:-0800
TZOFFSETTO:-0700
TZNAME:PDT
DTSTART:20210314T100000
END:DAYLIGHT
BEGIN:STANDARD
TZOFFSETFROM:-0700
TZOFFSETTO:-0800
TZNAME:PST
DTSTART:20211107T090000
END:STANDARD
BEGIN:DAYLIGHT
TZOFFSETFROM:-0800
TZOFFSETTO:-0700
TZNAME:PDT
DTSTART:20220313T100000
END:DAYLIGHT
BEGIN:STANDARD
TZOFFSETFROM:-0700
TZOFFSETTO:-0800
TZNAME:PST
DTSTART:20221106T090000
END:STANDARD
BEGIN:DAYLIGHT
TZOFFSETFROM:-0800
TZOFFSETTO:-0700
TZNAME:PDT
DTSTART:20230312T100000
END:DAYLIGHT
BEGIN:STANDARD
TZOFFSETFROM:-0700
TZOFFSETTO:-0800
TZNAME:PST
DTSTART:20231105T090000
END:STANDARD
END:VTIMEZONE
BEGIN:VEVENT
DTSTART;TZID=America/Vancouver:20221102T153000
DTEND;TZID=America/Vancouver:20221102T180000
DTSTAMP:20260423T123919
CREATED:20221027T205947Z
LAST-MODIFIED:20221027T205947Z
UID:32121-1667403000-1667412000@familysupportbc.com
SUMMARY:Monthly Hiking Group | In Person
DESCRIPTION:Meet up with fellow nature lovers and walk together in Stanley Park! \nMeet up in person for a short group hike exploring and getting comfortable in the beautiful Lower Mainland nature.\nWe will meet at Spokes Bicycle Rental and walk to Stanley Park from there! \nHike Details \nMeeting Location \nDress for the weather – bring a raincoat just in case of rain. Closed-toed shoes that you are comfortable walking in. A full water bottle. Snacks. Backpack to keep all other materials in. Everything you bring should comfortably fit in your backpack. Natural forested environment. Can be busy with hikers. Might be dogs on leash. The entire experience is outside and weather in the area can change quickly – be prepared for rain. \n  \nJOIN THE EXPERIENCE
URL:https://familysupportbc.com/event/monthly-hiking-group-in-person/
CATEGORIES:Calendar for Connection
ATTACH;FMTTYPE=image/png:https://familysupportbc.com/wp-content/uploads/2022/10/hiking.png
END:VEVENT
END:VCALENDAR