BEGIN:VCALENDAR
VERSION:2.0
PRODID:-//Family Support Institute - ECPv6.15.12.2//NONSGML v1.0//EN
CALSCALE:GREGORIAN
METHOD:PUBLISH
X-WR-CALNAME:Family Support Institute
X-ORIGINAL-URL:https://familysupportbc.com
X-WR-CALDESC:Events for Family Support Institute
REFRESH-INTERVAL;VALUE=DURATION:PT1H
X-Robots-Tag:noindex
X-PUBLISHED-TTL:PT1H
BEGIN:VTIMEZONE
TZID:America/Vancouver
BEGIN:DAYLIGHT
TZOFFSETFROM:-0800
TZOFFSETTO:-0700
TZNAME:PDT
DTSTART:20210314T100000
END:DAYLIGHT
BEGIN:STANDARD
TZOFFSETFROM:-0700
TZOFFSETTO:-0800
TZNAME:PST
DTSTART:20211107T090000
END:STANDARD
BEGIN:DAYLIGHT
TZOFFSETFROM:-0800
TZOFFSETTO:-0700
TZNAME:PDT
DTSTART:20220313T100000
END:DAYLIGHT
BEGIN:STANDARD
TZOFFSETFROM:-0700
TZOFFSETTO:-0800
TZNAME:PST
DTSTART:20221106T090000
END:STANDARD
BEGIN:DAYLIGHT
TZOFFSETFROM:-0800
TZOFFSETTO:-0700
TZNAME:PDT
DTSTART:20230312T100000
END:DAYLIGHT
BEGIN:STANDARD
TZOFFSETFROM:-0700
TZOFFSETTO:-0800
TZNAME:PST
DTSTART:20231105T090000
END:STANDARD
END:VTIMEZONE
BEGIN:VEVENT
DTSTART;TZID=America/Vancouver:20221029T184500
DTEND;TZID=America/Vancouver:20221029T200000
DTSTAMP:20260423T142031
CREATED:20221027T204651Z
LAST-MODIFIED:20221027T204651Z
UID:32112-1667069100-1667073600@familysupportbc.com
SUMMARY:Parade of Lost Souls | In Person
DESCRIPTION:Get in your costume for this annual Halloween parade experience in East Vancouver! \nMeet Sarah (in her Curiko hat and alien costume) and Steph at the front entrance to Britannia Community Centre at 6:45pm so we can head to the Parade of Lost Souls together! (Please be on time as the parade starts at 7pm one block away) There will be live music & performances\, interactive art and creative displays all along the parade route around the Britannia community centre. \nWear a costume or fun hat! (The theme of the Parade is an Intergalactic Disco but all kinds of costumes are welcome)! The parade takes place outside so dress for the weather. \n  \nJOIN THE EXPERIENCE HERE
URL:https://familysupportbc.com/event/parade-of-lost-souls-in-person/
LOCATION:Britannia Community Centre\, 1661 Napier St\, Vancouver\, British Columbia\, Canada
CATEGORIES:Calendar for Connection
ATTACH;FMTTYPE=image/png:https://familysupportbc.com/wp-content/uploads/2022/10/parade.png
END:VEVENT
END:VCALENDAR