BEGIN:VCALENDAR
VERSION:2.0
PRODID:-//Family Support Institute - ECPv6.15.12.2//NONSGML v1.0//EN
CALSCALE:GREGORIAN
METHOD:PUBLISH
X-WR-CALNAME:Family Support Institute
X-ORIGINAL-URL:https://familysupportbc.com
X-WR-CALDESC:Events for Family Support Institute
REFRESH-INTERVAL;VALUE=DURATION:PT1H
X-Robots-Tag:noindex
X-PUBLISHED-TTL:PT1H
BEGIN:VTIMEZONE
TZID:America/Vancouver
BEGIN:DAYLIGHT
TZOFFSETFROM:-0800
TZOFFSETTO:-0700
TZNAME:PDT
DTSTART:20200308T100000
END:DAYLIGHT
BEGIN:STANDARD
TZOFFSETFROM:-0700
TZOFFSETTO:-0800
TZNAME:PST
DTSTART:20201101T090000
END:STANDARD
BEGIN:DAYLIGHT
TZOFFSETFROM:-0800
TZOFFSETTO:-0700
TZNAME:PDT
DTSTART:20210314T100000
END:DAYLIGHT
BEGIN:STANDARD
TZOFFSETFROM:-0700
TZOFFSETTO:-0800
TZNAME:PST
DTSTART:20211107T090000
END:STANDARD
BEGIN:DAYLIGHT
TZOFFSETFROM:-0800
TZOFFSETTO:-0700
TZNAME:PDT
DTSTART:20220313T100000
END:DAYLIGHT
BEGIN:STANDARD
TZOFFSETFROM:-0700
TZOFFSETTO:-0800
TZNAME:PST
DTSTART:20221106T090000
END:STANDARD
END:VTIMEZONE
BEGIN:VEVENT
DTSTART;TZID=America/Vancouver:20211025T100000
DTEND;TZID=America/Vancouver:20211025T113000
DTSTAMP:20260423T112410
CREATED:20210525T000326Z
LAST-MODIFIED:20210630T210440Z
UID:20813-1635156000-1635161400@familysupportbc.com
SUMMARY:Self Injurious Behaviour
DESCRIPTION:SESSION INFO:   « Back to all events\nWatching your child hurt themselves is one of the most difficult things to witness. Are you a parent or caregiver of a Child with Self Injurious Behaviours? Do you sometimes feel alone on this journey? Would you like to meet other families like you? At FSI we would like to bring parents in this unique situation together for support\, empathy\, understanding\, and brainstorming some workable strategies. There may be tears or emotions that will surface for some of us but this will be a safe and confidential space for the families on a similar journey. We are better together. \n  \nClick Here to Register!  \n  \nFamily Support Institute of BC (FSI) is a provincial not-for-profit society committed to supporting families who have a family member with a disability. FSI is unique in Canada and the only grass roots family to family organization that has a broad volunteer base. \nFSI SUPPORTS AND SERVICES ARE FREE TO ANY FAMILY \nYou are invited to join FSI CONTINUING CONVERSATIONS\, a private Facebook Group intended to continue conversations of support or provide an alternative platform for support. www.facebook.com/groups/fsicontinuingconversations/ \nAll FSI Zoom sessions can be accessed by telephone only if access to computers and/or internet is a barrier. If you need assistance registering for any session\, please call our office at 1-800-441-5403. \n*FSI
URL:https://familysupportbc.com/event/self-injurious-behaviour-family-hangout-2021-10-25/
CATEGORIES:Family Hangouts,FSI Event Calendar
ATTACH;FMTTYPE=image/jpeg:https://familysupportbc.com/wp-content/uploads/2021/05/Family-Hangout-SIB.jpg
LOCATION:https://familysupportbc.com/event/self-injurious-behaviour-family-hangout-2021-10-25/
END:VEVENT
END:VCALENDAR