BEGIN:VCALENDAR
VERSION:2.0
PRODID:-//Family Support Institute - ECPv6.15.12.2//NONSGML v1.0//EN
CALSCALE:GREGORIAN
METHOD:PUBLISH
X-WR-CALNAME:Family Support Institute
X-ORIGINAL-URL:https://familysupportbc.com
X-WR-CALDESC:Events for Family Support Institute
REFRESH-INTERVAL;VALUE=DURATION:PT1H
X-Robots-Tag:noindex
X-PUBLISHED-TTL:PT1H
BEGIN:VTIMEZONE
TZID:America/Vancouver
BEGIN:DAYLIGHT
TZOFFSETFROM:-0800
TZOFFSETTO:-0700
TZNAME:PDT
DTSTART:20220313T100000
END:DAYLIGHT
BEGIN:STANDARD
TZOFFSETFROM:-0700
TZOFFSETTO:-0800
TZNAME:PST
DTSTART:20221106T090000
END:STANDARD
BEGIN:DAYLIGHT
TZOFFSETFROM:-0800
TZOFFSETTO:-0700
TZNAME:PDT
DTSTART:20230312T100000
END:DAYLIGHT
BEGIN:STANDARD
TZOFFSETFROM:-0700
TZOFFSETTO:-0800
TZNAME:PST
DTSTART:20231105T090000
END:STANDARD
BEGIN:DAYLIGHT
TZOFFSETFROM:-0800
TZOFFSETTO:-0700
TZNAME:PDT
DTSTART:20240310T100000
END:DAYLIGHT
BEGIN:STANDARD
TZOFFSETFROM:-0700
TZOFFSETTO:-0800
TZNAME:PST
DTSTART:20241103T090000
END:STANDARD
END:VTIMEZONE
BEGIN:VEVENT
DTSTART;TZID=America/Vancouver:20230627T130000
DTEND;TZID=America/Vancouver:20230627T150000
DTSTAMP:20260421T014613
CREATED:20230614T214742Z
LAST-MODIFIED:20230614T214742Z
UID:35892-1687870800-1687878000@familysupportbc.com
SUMMARY:SelfAdvocateNET 101
DESCRIPTION:Selfadvocatenet.ca is hosting a event! \n\nLearn to Access selfadvocatenet website\nConnect with other self-advocates across BC\nLearn about equal web access\, diversity\, inclusion and affordability\n\n  \nEmail bryce.schaufelberger@homesociety.ca to register
URL:https://familysupportbc.com/event/selfadvocatenet-101/
CATEGORIES:Calendar for Connection
ATTACH;FMTTYPE=image/jpeg:https://familysupportbc.com/wp-content/uploads/2023/06/Self-Advocates-Flyer1024_1.jpg
END:VEVENT
END:VCALENDAR