BEGIN:VCALENDAR
VERSION:2.0
PRODID:-//Family Support Institute - ECPv6.15.12.2//NONSGML v1.0//EN
CALSCALE:GREGORIAN
METHOD:PUBLISH
X-WR-CALNAME:Family Support Institute
X-ORIGINAL-URL:https://familysupportbc.com
X-WR-CALDESC:Events for Family Support Institute
REFRESH-INTERVAL;VALUE=DURATION:PT1H
X-Robots-Tag:noindex
X-PUBLISHED-TTL:PT1H
BEGIN:VTIMEZONE
TZID:America/Vancouver
BEGIN:DAYLIGHT
TZOFFSETFROM:-0800
TZOFFSETTO:-0700
TZNAME:PDT
DTSTART:20230312T100000
END:DAYLIGHT
BEGIN:STANDARD
TZOFFSETFROM:-0700
TZOFFSETTO:-0800
TZNAME:PST
DTSTART:20231105T090000
END:STANDARD
BEGIN:DAYLIGHT
TZOFFSETFROM:-0800
TZOFFSETTO:-0700
TZNAME:PDT
DTSTART:20240310T100000
END:DAYLIGHT
BEGIN:STANDARD
TZOFFSETFROM:-0700
TZOFFSETTO:-0800
TZNAME:PST
DTSTART:20241103T090000
END:STANDARD
BEGIN:DAYLIGHT
TZOFFSETFROM:-0800
TZOFFSETTO:-0700
TZNAME:PDT
DTSTART:20250309T100000
END:DAYLIGHT
BEGIN:STANDARD
TZOFFSETFROM:-0700
TZOFFSETTO:-0800
TZNAME:PST
DTSTART:20251102T090000
END:STANDARD
END:VTIMEZONE
BEGIN:VEVENT
DTSTART;TZID=America/Vancouver:20240228T190000
DTEND;TZID=America/Vancouver:20240228T203000
DTSTAMP:20260420T040606
CREATED:20240208T044324Z
LAST-MODIFIED:20240213T180411Z
UID:39084-1709146800-1709152200@familysupportbc.com
SUMMARY:Transition Series: Kindergarten Transitions
DESCRIPTION:SESSION INFO: « Back to all events\nThe transition from preschool into school can be particularly challenging for parents and their children when extra supports are required: and extra care is needed to ensure a smooth process. This workshop is designed for both parents and professionals to learn new tools and strategies for sound planning during any transition years. \n  \nCLICK HERE TO REGISTER\n  \nFamily Support Institute of BC (FSI) is a provincial not-for-profit society committed to supporting families who have a family member with a disability.\nFSI is unique in Canada and the only grass roots family to family organization that has a broad volunteer base. \nFSI SUPPORTS AND SERVICES ARE FREE TO ANY FAMILY \nYou are invited to join FSI EARLY YEARS TRANSITIONS\, a private Facebook Group intended to continue conversations of support or provide an alternative platform for support. \nAfter the session you are encouraged to share your feedback. This helps FSI improve our content to better serve the needs of families. \nAll FSI Zoom sessions can be accessed by telephone only if access to computers and/or internet is a barrier. If you need assistance registering for any session\, please call our office at 1-800-441-5403.
URL:https://familysupportbc.com/event/transition-series-kindergarten-transitions/
CATEGORIES:FSI Event Calendar,Learning Exploration Sessions
ATTACH;FMTTYPE=image/jpeg:https://familysupportbc.com/wp-content/uploads/2024/02/LE2024-FB-event-kinder-1.jpg
END:VEVENT
END:VCALENDAR