BEGIN:VCALENDAR
VERSION:2.0
PRODID:-//Family Support Institute - ECPv6.15.12.2//NONSGML v1.0//EN
CALSCALE:GREGORIAN
METHOD:PUBLISH
X-WR-CALNAME:Family Support Institute
X-ORIGINAL-URL:https://familysupportbc.com
X-WR-CALDESC:Events for Family Support Institute
REFRESH-INTERVAL;VALUE=DURATION:PT1H
X-Robots-Tag:noindex
X-PUBLISHED-TTL:PT1H
BEGIN:VTIMEZONE
TZID:America/Vancouver
BEGIN:DAYLIGHT
TZOFFSETFROM:-0800
TZOFFSETTO:-0700
TZNAME:PDT
DTSTART:20200308T100000
END:DAYLIGHT
BEGIN:STANDARD
TZOFFSETFROM:-0700
TZOFFSETTO:-0800
TZNAME:PST
DTSTART:20201101T090000
END:STANDARD
BEGIN:DAYLIGHT
TZOFFSETFROM:-0800
TZOFFSETTO:-0700
TZNAME:PDT
DTSTART:20210314T100000
END:DAYLIGHT
BEGIN:STANDARD
TZOFFSETFROM:-0700
TZOFFSETTO:-0800
TZNAME:PST
DTSTART:20211107T090000
END:STANDARD
BEGIN:DAYLIGHT
TZOFFSETFROM:-0800
TZOFFSETTO:-0700
TZNAME:PDT
DTSTART:20220313T100000
END:DAYLIGHT
BEGIN:STANDARD
TZOFFSETFROM:-0700
TZOFFSETTO:-0800
TZNAME:PST
DTSTART:20221106T090000
END:STANDARD
END:VTIMEZONE
BEGIN:VEVENT
DTSTART;TZID=America/Vancouver:20211110T183000
DTEND;TZID=America/Vancouver:20211110T203000
DTSTAMP:20260419T060504
CREATED:20210722T185717Z
LAST-MODIFIED:20210817T220715Z
UID:21791-1636569000-1636576200@familysupportbc.com
SUMMARY:Transitioning to Adulthood Series: PWD Supplements
DESCRIPTION:SESSION INFO: « Back to all events\nPlease join the Family Support Institute and Special Guest Speakers from MSDPR for our zoom presentation to learn about PWD Supplements and other services available to your youth. \nGuest Speaker: TBA \nClick here to register.\n  \nFamily Support Institute of BC (FSI) is a provincial not-for-profit society committed to supporting families who have a family member with a disability.\nFSI is unique in Canada and the only grass roots family to family organization that has a broad volunteer base. \nFSI SUPPORTS AND SERVICES ARE FREE TO ANY FAMILY \nYou are invited to join FSI: TRANSITIONING TO ADULTHOOD a private Facebook Group created by The Family Support Institute of BC aimed to support families navigate the journey of transitioning into adulthood for their loved ones through peer-to-peer support and shared experiences. https://www.facebook.com/groups/411627796958576 \nAll FSI Zoom sessions can be accessed by telephone only if access to computers and/or internet is a barrier. If you need assistance registering for any session\, please call our office at 1-800-441-5403. \n  \n*FSI
URL:https://familysupportbc.com/event/transitioning-to-adulthood-series-pwd-supplements/
CATEGORIES:FSI Event Calendar
ATTACH;FMTTYPE=image/jpeg:https://familysupportbc.com/wp-content/uploads/2021/07/Family-Hangout-TRANS-SERIES.jpg
LOCATION:https://familysupportbc.com/event/transitioning-to-adulthood-series-pwd-supplements/
END:VEVENT
END:VCALENDAR