BEGIN:VCALENDAR
VERSION:2.0
PRODID:-//Family Support Institute - ECPv6.15.12.2//NONSGML v1.0//EN
CALSCALE:GREGORIAN
METHOD:PUBLISH
X-WR-CALNAME:Family Support Institute
X-ORIGINAL-URL:https://familysupportbc.com
X-WR-CALDESC:Events for Family Support Institute
REFRESH-INTERVAL;VALUE=DURATION:PT1H
X-Robots-Tag:noindex
X-PUBLISHED-TTL:PT1H
BEGIN:VTIMEZONE
TZID:America/Vancouver
BEGIN:DAYLIGHT
TZOFFSETFROM:-0800
TZOFFSETTO:-0700
TZNAME:PDT
DTSTART:20210314T100000
END:DAYLIGHT
BEGIN:STANDARD
TZOFFSETFROM:-0700
TZOFFSETTO:-0800
TZNAME:PST
DTSTART:20211107T090000
END:STANDARD
BEGIN:DAYLIGHT
TZOFFSETFROM:-0800
TZOFFSETTO:-0700
TZNAME:PDT
DTSTART:20220313T100000
END:DAYLIGHT
BEGIN:STANDARD
TZOFFSETFROM:-0700
TZOFFSETTO:-0800
TZNAME:PST
DTSTART:20221106T090000
END:STANDARD
BEGIN:DAYLIGHT
TZOFFSETFROM:-0800
TZOFFSETTO:-0700
TZNAME:PDT
DTSTART:20230312T100000
END:DAYLIGHT
BEGIN:STANDARD
TZOFFSETFROM:-0700
TZOFFSETTO:-0800
TZNAME:PST
DTSTART:20231105T090000
END:STANDARD
END:VTIMEZONE
BEGIN:VEVENT
DTSTART;TZID=America/Vancouver:20221012T160000
DTEND;TZID=America/Vancouver:20221012T170000
DTSTAMP:20260419T081435
CREATED:20211124T183115Z
LAST-MODIFIED:20221011T191819Z
UID:24770-1665590400-1665594000@familysupportbc.com
SUMMARY:Understanding our Cities
DESCRIPTION:SESSION INFO: « Back to all events \n\n\nHey\, I’m Steph! I used to think that city policies and infrastructure were kind of boring! Who wants to talk about transit? Why should I care about policies? But then I realized I interact with it almost EVERY DAY! Maybe if I knew more I could be involved in making important changes. I have a lot to learn\, and I am hoping you will join me! We will be asking things like: \n-What are the things available to make our city better? \n-People talk about accessibility but what does it mean to city planners? \n-How can we get involved in planning? \n\n\n\n\nFor this event\, you’ll need a phone\, tablet or laptop and the zoom app and proof that you found the clue. \n  \nCLICK TO JOIN MEETING
URL:https://familysupportbc.com/event/understand-our-cities/2022-10-12/
CATEGORIES:Calendar for Connection
ATTACH;FMTTYPE=image/png:https://familysupportbc.com/wp-content/uploads/2021/11/cities.png
LOCATION:https://familysupportbc.com/event/understand-our-cities/2022-10-12/
END:VEVENT
END:VCALENDAR