BEGIN:VCALENDAR
VERSION:2.0
PRODID:-//Family Support Institute - ECPv6.15.12.2//NONSGML v1.0//EN
CALSCALE:GREGORIAN
METHOD:PUBLISH
X-ORIGINAL-URL:https://familysupportbc.com
X-WR-CALDESC:Events for Family Support Institute
REFRESH-INTERVAL;VALUE=DURATION:PT1H
X-Robots-Tag:noindex
X-PUBLISHED-TTL:PT1H
BEGIN:VTIMEZONE
TZID:America/Vancouver
BEGIN:DAYLIGHT
TZOFFSETFROM:-0800
TZOFFSETTO:-0700
TZNAME:PDT
DTSTART:20200308T100000
END:DAYLIGHT
BEGIN:STANDARD
TZOFFSETFROM:-0700
TZOFFSETTO:-0800
TZNAME:PST
DTSTART:20201101T090000
END:STANDARD
BEGIN:DAYLIGHT
TZOFFSETFROM:-0800
TZOFFSETTO:-0700
TZNAME:PDT
DTSTART:20210314T100000
END:DAYLIGHT
BEGIN:STANDARD
TZOFFSETFROM:-0700
TZOFFSETTO:-0800
TZNAME:PST
DTSTART:20211107T090000
END:STANDARD
BEGIN:DAYLIGHT
TZOFFSETFROM:-0800
TZOFFSETTO:-0700
TZNAME:PDT
DTSTART:20220313T100000
END:DAYLIGHT
BEGIN:STANDARD
TZOFFSETFROM:-0700
TZOFFSETTO:-0800
TZNAME:PST
DTSTART:20221106T090000
END:STANDARD
END:VTIMEZONE
BEGIN:VEVENT
DTSTART;TZID=America/Vancouver:20211103T183000
DTEND;TZID=America/Vancouver:20211103T200000
DTSTAMP:20260419T075042
CREATED:20210928T203630Z
LAST-MODIFIED:20211001T173856Z
UID:23546-1635964200-1635969600@familysupportbc.com
SUMMARY:Wayfinders Series: Goal Setting & Skill Building
DESCRIPTION:SESSION INFO: « Back to all events \nNOV 3 & 10: Goal Setting & Skill Building – start working towards making your dream a reality\n*The second meeting for each topic will be an ‘open mike’ session for parents/families/self advocates\, for a personal dive into the topic* \nWant to start building a Community Safety plan?\nWayFinders can help develop a strategy. \nNeed help transitioning from high school to community\, post secondary?\nWayFinders can propose and discuss options with you. \nIs meaningful employment what you want?\nWayFinders discuss building related skills and strategies to land your dream job. \nIs your child’s IEP creating opportunities to prepare them for a fulfilling life?\nWayFinders offer suggestions to make IEP’s best suited for your child’s life plan. \n  \nWayfinders Facilitators helps persons with a disability learn how to dream. \nJoin our series to learn how we help them develop a vision to make their dreams a reality. \n  \nCLICK HERE TO REGISTER FOR ONE OR BOTH SESSIONS \n  \nFamily Support Institute of BC (FSI) is a provincial not-for-profit society committed to supporting families who have a family member with a disability. FSI is unique in Canada and the only grass roots family to family organization that has a broad volunteer base. \nFSI SUPPORTS AND SERVICES ARE FREE TO ANY FAMILY \nYou are invited to join FSI CONTINUING CONVERSATIONS\, a private Facebook Group intended to continue conversations of support or provide an alternative platform for support. www.facebook.com/groups/fsicontinuingconversations/ \nAll FSI Zoom sessions can be accessed by telephone only if access to computers and/or internet is a barrier. If you need assistance registering for any session\, please call our office at 1-800-441-5403. \n*RS
URL:https://familysupportbc.com/event/wayfinders-series-goal-setting-skill-building/2021-11-03/
CATEGORIES:Calendar for Connection,FSI Event Calendar
ATTACH;FMTTYPE=image/jpeg:https://familysupportbc.com/wp-content/uploads/2021/09/Family-Hangout-WAYFINDERS.jpg
LOCATION:https://familysupportbc.com/event/wayfinders-series-goal-setting-skill-building/2021-11-03/
END:VEVENT
END:VCALENDAR