BEGIN:VCALENDAR
VERSION:2.0
PRODID:-//Family Support Institute - ECPv6.15.12.2//NONSGML v1.0//EN
CALSCALE:GREGORIAN
METHOD:PUBLISH
X-WR-CALNAME:Family Support Institute
X-ORIGINAL-URL:https://familysupportbc.com
X-WR-CALDESC:Events for Family Support Institute
REFRESH-INTERVAL;VALUE=DURATION:PT1H
X-Robots-Tag:noindex
X-PUBLISHED-TTL:PT1H
BEGIN:VTIMEZONE
TZID:America/Vancouver
BEGIN:DAYLIGHT
TZOFFSETFROM:-0800
TZOFFSETTO:-0700
TZNAME:PDT
DTSTART:20200308T100000
END:DAYLIGHT
BEGIN:STANDARD
TZOFFSETFROM:-0700
TZOFFSETTO:-0800
TZNAME:PST
DTSTART:20201101T090000
END:STANDARD
BEGIN:DAYLIGHT
TZOFFSETFROM:-0800
TZOFFSETTO:-0700
TZNAME:PDT
DTSTART:20210314T100000
END:DAYLIGHT
BEGIN:STANDARD
TZOFFSETFROM:-0700
TZOFFSETTO:-0800
TZNAME:PST
DTSTART:20211107T090000
END:STANDARD
BEGIN:DAYLIGHT
TZOFFSETFROM:-0800
TZOFFSETTO:-0700
TZNAME:PDT
DTSTART:20220313T100000
END:DAYLIGHT
BEGIN:STANDARD
TZOFFSETFROM:-0700
TZOFFSETTO:-0800
TZNAME:PST
DTSTART:20221106T090000
END:STANDARD
END:VTIMEZONE
BEGIN:VEVENT
DTSTART;TZID=America/Vancouver:20211020T183000
DTEND;TZID=America/Vancouver:20211020T200000
DTSTAMP:20260420T011948
CREATED:20210923T211708Z
LAST-MODIFIED:20211019T174028Z
UID:23415-1634754600-1634760000@familysupportbc.com
SUMMARY:Wayfinders Series: Learning to Dream
DESCRIPTION:SESSION INFO: « Back to all events \nOCT 20 & 27: Learning to Dream – defining what you see as your ideal life.\n*The second meeting for each topic will be an ‘open mike’ session for parents/families/self advocates\, for a personal dive into the topic* \nWayfinders Facilitators helps persons with a disability learn how to dream. \nJoin our series to learn how we help them develop a vision to make their dreams a reality. \n  \nCLICK HERE TO REGISTER FOR ONE OR BOTH SESSIONS\n  \n  \nFamily Support Institute of BC (FSI) is a provincial not-for-profit society committed to supporting families who have a family member with a disability. FSI is unique in Canada and the only grass roots family to family organization that has a broad volunteer base. \nFSI SUPPORTS AND SERVICES ARE FREE TO ANY FAMILY \nYou are invited to join FSI CONTINUING CONVERSATIONS\, a private Facebook Group intended to continue conversations of support or provide an alternative platform for support. www.facebook.com/groups/fsicontinuingconversations/ \nAll FSI Zoom sessions can be accessed by telephone only if access to computers and/or internet is a barrier. If you need assistance registering for any session\, please call our office at 1-800-441-5403. \n*RS
URL:https://familysupportbc.com/event/wayfinders-series-learning-to-dream/2021-10-20/
CATEGORIES:Calendar for Connection,FSI Event Calendar
ATTACH;FMTTYPE=image/jpeg:https://familysupportbc.com/wp-content/uploads/2021/09/Family-Hangout-WAYFINDERS.jpg
LOCATION:https://familysupportbc.com/event/wayfinders-series-learning-to-dream/2021-10-20/
END:VEVENT
END:VCALENDAR