BEGIN:VCALENDAR
VERSION:2.0
PRODID:-//Family Support Institute - ECPv6.15.12.2//NONSGML v1.0//EN
CALSCALE:GREGORIAN
METHOD:PUBLISH
X-WR-CALNAME:Family Support Institute
X-ORIGINAL-URL:https://familysupportbc.com
X-WR-CALDESC:Events for Family Support Institute
REFRESH-INTERVAL;VALUE=DURATION:PT1H
X-Robots-Tag:noindex
X-PUBLISHED-TTL:PT1H
BEGIN:VTIMEZONE
TZID:America/Vancouver
BEGIN:DAYLIGHT
TZOFFSETFROM:-0800
TZOFFSETTO:-0700
TZNAME:PDT
DTSTART:20230312T100000
END:DAYLIGHT
BEGIN:STANDARD
TZOFFSETFROM:-0700
TZOFFSETTO:-0800
TZNAME:PST
DTSTART:20231105T090000
END:STANDARD
BEGIN:DAYLIGHT
TZOFFSETFROM:-0800
TZOFFSETTO:-0700
TZNAME:PDT
DTSTART:20240310T100000
END:DAYLIGHT
BEGIN:STANDARD
TZOFFSETFROM:-0700
TZOFFSETTO:-0800
TZNAME:PST
DTSTART:20241103T090000
END:STANDARD
BEGIN:DAYLIGHT
TZOFFSETFROM:-0800
TZOFFSETTO:-0700
TZNAME:PDT
DTSTART:20250309T100000
END:DAYLIGHT
BEGIN:STANDARD
TZOFFSETFROM:-0700
TZOFFSETTO:-0800
TZNAME:PST
DTSTART:20251102T090000
END:STANDARD
END:VTIMEZONE
BEGIN:VEVENT
DTSTART;TZID=America/Vancouver:20240402T173000
DTEND;TZID=America/Vancouver:20240402T193000
DTSTAMP:20260421T061607
CREATED:20240130T220227Z
LAST-MODIFIED:20240213T214320Z
UID:38932-1712079000-1712086200@familysupportbc.com
SUMMARY:Leisure Fair 2024 | Save the Date
DESCRIPTION:Explore Lower Mainland recreation activities for children and youth with disabilities. \nSunset Community Centre\, 6810 Main Street\, Vancouver BC V5X 0A1 \n 
URL:https://familysupportbc.com/event/leisure-fair-2024-save-the-date/
LOCATION:Sunset Community Centre\, 6810 Main Street\, Vancouver\, BC\, V5X0A1
CATEGORIES:External Event
ATTACH;FMTTYPE=image/jpeg:https://familysupportbc.com/wp-content/uploads/2024/01/fair.jpg
END:VEVENT
END:VCALENDAR