BEGIN:VCALENDAR
VERSION:2.0
PRODID:-//Family Support Institute - ECPv6.15.12.2//NONSGML v1.0//EN
CALSCALE:GREGORIAN
METHOD:PUBLISH
X-ORIGINAL-URL:https://familysupportbc.com
X-WR-CALDESC:Events for Family Support Institute
REFRESH-INTERVAL;VALUE=DURATION:PT1H
X-Robots-Tag:noindex
X-PUBLISHED-TTL:PT1H
BEGIN:VTIMEZONE
TZID:America/Vancouver
BEGIN:DAYLIGHT
TZOFFSETFROM:-0800
TZOFFSETTO:-0700
TZNAME:PDT
DTSTART:20210314T100000
END:DAYLIGHT
BEGIN:STANDARD
TZOFFSETFROM:-0700
TZOFFSETTO:-0800
TZNAME:PST
DTSTART:20211107T090000
END:STANDARD
BEGIN:DAYLIGHT
TZOFFSETFROM:-0800
TZOFFSETTO:-0700
TZNAME:PDT
DTSTART:20220313T100000
END:DAYLIGHT
BEGIN:STANDARD
TZOFFSETFROM:-0700
TZOFFSETTO:-0800
TZNAME:PST
DTSTART:20221106T090000
END:STANDARD
BEGIN:DAYLIGHT
TZOFFSETFROM:-0800
TZOFFSETTO:-0700
TZNAME:PDT
DTSTART:20230312T100000
END:DAYLIGHT
BEGIN:STANDARD
TZOFFSETFROM:-0700
TZOFFSETTO:-0800
TZNAME:PST
DTSTART:20231105T090000
END:STANDARD
END:VTIMEZONE
BEGIN:VEVENT
DTSTART;TZID=America/Vancouver:20221210T160000
DTEND;TZID=America/Vancouver:20221210T173000
DTSTAMP:20260425T062956
CREATED:20221123T231109Z
LAST-MODIFIED:20221123T231109Z
UID:32430-1670688000-1670693400@familysupportbc.com
SUMMARY:Heritage Christmas at Burnaby Village Museum | In Person
DESCRIPTION:SESSION INFO: « Back to all events\nAre you ready to get in the festive spirit? Curious about past holiday traditions? Together we will explore the Burnaby Village Museum’s Heritage Christmas. Dress for the weather and bring money for hot chocolate. \nWe will explore the Christmas displays and programming at the Burnaby Village Museum including a festive scavenger hunt and displays of traditional Christmas decorations. We will then head inside to warm up and discuss our own holiday traditions. \nDress for the weather as most activities will be outside. Bring a rain jacket and umbrella. Money to purchase hot chocolate and a snack. \nThe Burnaby Village Museum is mostly outside. It can get crowded and noisy. We will meet at the main entrance by the parking lot. \n  \nJOIN THE EXPERIENCE\n  \nWatch a preview here!
URL:https://familysupportbc.com/event/heritage-christmas-at-burnaby-village-museum-in-person/
LOCATION:Burnaby Village Museum\, 6501 Deer Lake Ave\, Burnaby\, British Columbia\, V5G 3T6\, Canada
CATEGORIES:Calendar for Connection
ATTACH;FMTTYPE=image/png:https://familysupportbc.com/wp-content/uploads/2022/11/burnaby-xmas.png
END:VEVENT
END:VCALENDAR