BEGIN:VCALENDAR
VERSION:2.0
PRODID:-//Family Support Institute - ECPv6.15.12.2//NONSGML v1.0//EN
CALSCALE:GREGORIAN
METHOD:PUBLISH
X-WR-CALNAME:Family Support Institute
X-ORIGINAL-URL:https://familysupportbc.com
X-WR-CALDESC:Events for Family Support Institute
REFRESH-INTERVAL;VALUE=DURATION:PT1H
X-Robots-Tag:noindex
X-PUBLISHED-TTL:PT1H
BEGIN:VTIMEZONE
TZID:America/Vancouver
BEGIN:DAYLIGHT
TZOFFSETFROM:-0800
TZOFFSETTO:-0700
TZNAME:PDT
DTSTART:20220313T100000
END:DAYLIGHT
BEGIN:STANDARD
TZOFFSETFROM:-0700
TZOFFSETTO:-0800
TZNAME:PST
DTSTART:20221106T090000
END:STANDARD
BEGIN:DAYLIGHT
TZOFFSETFROM:-0800
TZOFFSETTO:-0700
TZNAME:PDT
DTSTART:20230312T100000
END:DAYLIGHT
BEGIN:STANDARD
TZOFFSETFROM:-0700
TZOFFSETTO:-0800
TZNAME:PST
DTSTART:20231105T090000
END:STANDARD
BEGIN:DAYLIGHT
TZOFFSETFROM:-0800
TZOFFSETTO:-0700
TZNAME:PDT
DTSTART:20240310T100000
END:DAYLIGHT
BEGIN:STANDARD
TZOFFSETFROM:-0700
TZOFFSETTO:-0800
TZNAME:PST
DTSTART:20241103T090000
END:STANDARD
END:VTIMEZONE
BEGIN:VEVENT
DTSTART;TZID=America/Vancouver:20230121T130000
DTEND;TZID=America/Vancouver:20230121T160000
DTSTAMP:20260423T142421
CREATED:20221207T213651Z
LAST-MODIFIED:20221207T213653Z
UID:32529-1674306000-1674316800@familysupportbc.com
SUMMARY:A World Cafe Discussion
DESCRIPTION:SESSION INFO: « Back to all events\nThe goal of the discussion is to identify ways to make Mission a more welcoming and inclusive community. \nLight refreshments & door prizes. \nRSVP to Arlene schoute1@telus.net\nThis is a joint project between the Mission Self Advocate Group & ESATTA (Empowering Self Advocates to Take Action)
URL:https://familysupportbc.com/event/a-world-cafe-discussion/
LOCATION:Cedar Valley Mennonite Church\, 32860 Cherry Avenue\, Mission\, British Columbia\, Canada
CATEGORIES:Calendar for Connection
ATTACH;FMTTYPE=image/png:https://familysupportbc.com/wp-content/uploads/2022/12/Mission.png
END:VEVENT
END:VCALENDAR