BEGIN:VCALENDAR
VERSION:2.0
PRODID:-//Family Support Institute - ECPv6.15.12.2//NONSGML v1.0//EN
CALSCALE:GREGORIAN
METHOD:PUBLISH
X-ORIGINAL-URL:https://familysupportbc.com
X-WR-CALDESC:Events for Family Support Institute
REFRESH-INTERVAL;VALUE=DURATION:PT1H
X-Robots-Tag:noindex
X-PUBLISHED-TTL:PT1H
BEGIN:VTIMEZONE
TZID:America/Vancouver
BEGIN:DAYLIGHT
TZOFFSETFROM:-0800
TZOFFSETTO:-0700
TZNAME:PDT
DTSTART:20210314T100000
END:DAYLIGHT
BEGIN:STANDARD
TZOFFSETFROM:-0700
TZOFFSETTO:-0800
TZNAME:PST
DTSTART:20211107T090000
END:STANDARD
BEGIN:DAYLIGHT
TZOFFSETFROM:-0800
TZOFFSETTO:-0700
TZNAME:PDT
DTSTART:20220313T100000
END:DAYLIGHT
BEGIN:STANDARD
TZOFFSETFROM:-0700
TZOFFSETTO:-0800
TZNAME:PST
DTSTART:20221106T090000
END:STANDARD
BEGIN:DAYLIGHT
TZOFFSETFROM:-0800
TZOFFSETTO:-0700
TZNAME:PDT
DTSTART:20230312T100000
END:DAYLIGHT
BEGIN:STANDARD
TZOFFSETFROM:-0700
TZOFFSETTO:-0800
TZNAME:PST
DTSTART:20231105T090000
END:STANDARD
BEGIN:DAYLIGHT
TZOFFSETFROM:-0800
TZOFFSETTO:-0700
TZNAME:PDT
DTSTART:20240310T100000
END:DAYLIGHT
BEGIN:STANDARD
TZOFFSETFROM:-0700
TZOFFSETTO:-0800
TZNAME:PST
DTSTART:20241103T090000
END:STANDARD
BEGIN:DAYLIGHT
TZOFFSETFROM:-0800
TZOFFSETTO:-0700
TZNAME:PDT
DTSTART:20250309T100000
END:DAYLIGHT
BEGIN:STANDARD
TZOFFSETFROM:-0700
TZOFFSETTO:-0800
TZNAME:PST
DTSTART:20251102T090000
END:STANDARD
END:VTIMEZONE
BEGIN:VEVENT
DTSTART;TZID=America/Vancouver:20240622T150000
DTEND;TZID=America/Vancouver:20240622T163000
DTSTAMP:20260423T195156
CREATED:20240618T215114Z
LAST-MODIFIED:20240618T215114Z
UID:40599-1719068400-1719073800@familysupportbc.com
SUMMARY:Summertime Festivities│Dragon Boat Drone Show
DESCRIPTION:Have you ever seen a drone show in the night sky? Join us to watch the Dragon Boat Festival drone show overtop False Creek near Science World. We will meet at the Tim Horton’s next to the Skytrain Station and head over together to the viewing area. The show is scheduled to start after sunset around 9:30pm. \nWe’ll watch the drone show by Science World. If you’d like to come early\, there is a full program of events happening as part of the Dragon Boat Festival. \n  \nBOOK YOUR EXPERIENCE
URL:https://familysupportbc.com/event/summertime-festivities%e2%94%82dragon-boat-drone-show/
LOCATION:Science World\, 1455 Quebec Street\, Vancouver\, British Columbia\, V6A 3Z7\, Canada
CATEGORIES:Calendar for Connection
ATTACH;FMTTYPE=image/jpeg:https://familysupportbc.com/wp-content/uploads/2024/06/dragon-boar.jpeg
END:VEVENT
BEGIN:VEVENT
DTSTART;TZID=America/Vancouver:20221029T080000
DTEND;TZID=America/Vancouver:20221029T100000
DTSTAMP:20260423T195156
CREATED:20221024T181011Z
LAST-MODIFIED:20221024T181011Z
UID:32074-1667030400-1667037600@familysupportbc.com
SUMMARY:Science World: Sensory Friendly Mornings
DESCRIPTION:Sensory Friendly Mornings are inclusive events for individuals and families with neurodiverse or accessibility needs. Guests can explore our exhibits and galleries in a comfortable\, welcoming and less crowded environment. Wherever possible\, exhibits will have adjusted operations and lowered volume levels from 8–10am. Volume levels and exhibit operations will return to their usual settings at 10am\, when we open to the public. Guests are welcome to stay and explore Science World as long as they wish. \nFrom 8–10am\, Sensory Friendly guests can enjoy these amenities:\n\nAccess to galleries and exhibits before we open to the public at 10am\nLight and sound modifications\nDesignated sensory break room\nCentre Stage show with reduced noise\nAdditional signage\n\nResources for your visit:\n\nSensory map for regular operations\nActivity Storybook\nNoise cancelling earmuffs (available for loan on a first-come\, first-served basis)\n\nTickets:\n\nTickets are limited and we encourage all guests to purchase tickets or register in advance\n$12 plus tax per person\nRegistration is free for Science World Members\nPlease note: an adult attendant/caregiver who is supervising a visitor with disabilities will receive a complimentary daytime general admission (1:1 ratio) upon arrival and does not need to purchase a ticket or register in advance\n\n  \nBOOK TICKETS HERE\n  \nUpcoming Sensory Friendly Mornings:\n• Saturday\, October 29\, 2022\n• Saturday\, January 28\, 2023\n• Saturday\, April 29\, 2023\nSensory Friendly Mornings would not be possible without the generous support of:\nAmes Family Foundation
URL:https://familysupportbc.com/event/science-world-sensory-friendly-mornings/2022-10-29/
LOCATION:Science World\, 1455 Quebec Street\, Vancouver\, British Columbia\, V6A 3Z7\, Canada
CATEGORIES:Calendar for Connection,External Event
ATTACH;FMTTYPE=image/jpeg:https://familysupportbc.com/wp-content/uploads/2022/10/science-world.jpg
END:VEVENT
END:VCALENDAR